Workbook

Sheet 工賃報告書
B1: 白いセルのみ入力又は選択し、他のセルには触れないでください。
B2: ※電子メールでの回答にご協力ください。
B3: 高知県地域福祉部障害福祉課 秋田 行き | AD3: 平成２３年度工賃（賃金）実績、目標工賃報告書
B4: 送信先 daichi_akita@ken2.pref.kochi.lg.jp
B6: 令和元年度工賃等実績等報告書
B8: ※多機能型事業所については、それぞれの事業毎に作成し報告してください。
B9: ※就労継続支援Ａ型事業については、「雇用型」「非雇用型」で分けて作成し報告してください。
F11: 報告年月日
F12: 回答者職・氏名
F13: 連絡先電話番号
B15: 下記のとおり、当事業所における、工賃等実績及び目標工賃を報告します。
B17: 法人名
B18: 法人番号
B19: 法人種別 | Q19: プルダウンリストから選んでください | S19: １ 社会福祉協議会 | T19: ２ 社会福祉法人（社会福祉協議会以外） | U19: ３ 医療法人 | V19: ４ 営利法人（株式・合名・合資・合同会社） | W19: ５ 特定非営利活動法人（NPO） | X19: ６ その他（社団・財団・農協・生協等）
B20: 事業所・施設名
B21: 事業種別 | Q21: プルダウンリストから選んでください | S21: 就労継続支援A型事業（雇用型） | T21: 就労継続支援A型事業（非雇用型） | U21: 就労継続支援Ｂ型事業
B22: 令和２年３月末日の定員 | M22: 名
B23: 就労支援事業収入額 | M23: 円
B24: 就労支援事業支出額 （利用者に支払う工賃（賃金）総額を除く） | M24: 円
B25: 積立金の有無※１ | Q25: プルダウンリストから選んでください | S25: 〇
B26: 在宅利用者数※ | M26: 名
B27: 農福連携の収入※２ | M27: ％
B28: 工賃等支払対象者 延べ人数 | C28: =工賃実績算定表!AC11 -> 0 | M28: 名
B29: 工賃等支払対象者 延べ就労時間数 | C29: =工賃実績算定表!AC88 -> 0 | M29: 時間
B30: 工賃等支払総額 | C30: =工賃実績算定表!AC16 -> 0 | M30: 円
B31: 工賃等実績額 （月給換算） | C31: =ROUND((工賃実績算定表!AD88/工賃実績算定表!AC89),0) -> #DIV/0! | M31: 円
B32: 工賃等実績額 （時給換算） | C32: =ROUND((工賃実績算定表!AD88/工賃実績算定表!AC88),0) -> #DIV/0! | M32: 円
B33: ※１：直近の会計年度において、「工賃変動積立金」又は「設備等整備積立金」を計上していれば、〇と記載 ※２：全体の就労支援事業の収入に対する農福連携による生産活動に係る収入の割合（％）を記入してください。（該当のない場合は、空欄にしてください。）
B34: 備考 １ 令和元年度工賃等実績算定表を添付すること。
B35: ２ サービス種別・施設種別毎に、報告書を作成すること。
B36: ３ 工賃等支払延べ人員欄は、工賃等実績算定表の（Ａ）、工賃等支払総額欄は、同表の（Ｂ）の数値
B37: と一致していることを確認すること。
B38: ※令和２年４月１日現在で、就労継続支援B型事業所の場合は、以下の目標と実績を記載
B39: 令和２年度目標工賃額 | C39: 時給 ・ 月給 | K39: 円 | L39: …イ
B40: 令和元年度目標工賃額 | C40: 時給 ・ 月給 | K40: 円 | L40: …ロ
B41: 令和元年度工賃実績額 | C41: 時給 ・ 月給 | K41: 円 | L41: …ハ
B42: 平成30年度工賃実績額 | C42: 時給 ・ 月給 | K42: 円 | L42: …ニ
B43: 備考 １ イ>ハとなるように目標工賃を設定すること。
B44: ２ 目標工賃額は、時給・月給から選択できますが、時給者・月給者が混在する場合は、
B45: 時給で設定してください。
B46: ３ 令和元年度の目標工賃額は、策定した工賃向上計画の目標工賃額を入れてください。
B48: 令和元年度工賃向上計画に係る報告事項
B49: 平成30年度に策定した『工賃向上計画』6. 作業別の取り組み方針を以下に転記してください。
B50: 作業名①
B51: 取組方針 | C51: 強化 ・現状維持 ・ 縮小 ・ 撤退
B52: 理由
B58: 目標
B62: 作業名②
B63: 取組方針 | C63: 強化 ・現状維持 ・ 縮小 ・ 撤退
B64: 理由
B70: 目標
B74: 作業名③
B75: 取組方針 | C75: 強化 ・現状維持 ・ 縮小 ・ 撤退
B76: 理由
B82: 目標
B87: 作業別取り組み方針に対する令和元年度の取り組み結果
B88: 作業名①
B89: 令和元年度収入結果 | C89: 増 ・現状維持 ・ 減
B90: 取組状況
B100: 作業名②
B101: 令和元年度収入結果 | C101: 増 ・現状維持 ・ 減
B102: 取組状況
B112: 作業名③
B113: 令和元年度収入結果 | C113: 増 ・現状維持 ・ 減
B114: 取組状況

Sheet 工賃実績算定表
B1: 白いセルのみ入力又は選択し、他のセルには触れないでください。
B2: 令和元年度工賃等実績算定表
B3: 事業所名：
B8: 【月給者の平均工賃等】 | R8: 【時給者の平均工賃等】 | X8: 【工賃等実績額（時給換算）】 | AC8: 工賃等支払対象者 延べ人数（Ａ）
B9: 対象者数① （延人月） | D9: 総労働時間数② | F9: 月額工賃等 総額③ | H9: 時給換算額④ （③÷②） | R9: 対象者数（延人時） 〔総労働時間数〕⑤ | T9: 時間額工賃等 総額⑥ | V9: 時給換算額⑦ （⑥÷⑤） | X9: （③＋⑥）／（②＋⑤）
B11: =SUMIF($D$23:$D$84,$AH$23,$AE$23:$AE$84) -> 0 | D11: =SUMIF($D$23:$D$84,$AI$23,$AC$23:$AC$84) -> 0 | F11: =SUMIF($D$23:$D$84,$AI$23,$AD$23:$AD$84) -> 0 | H11: =ROUND(F11/D11,0) -> #DIV/0! | R11: =SUMIF($D$23:$D$84,$AH$22,$AC$23:$AC$84) -> 0 | T11: =SUMIF($D$23:$D$84,$AI$22,$AD$23:$AD$84) -> 0 | V11: =ROUND(T11/R11,0) -> #DIV/0! | X11: =ROUND((F11+T11)/(D11+R11),0) -> #DIV/0! | AC11: =AC89 -> 0
AC13: 工賃等支払総額（Ｂ） ③＋⑥
C14: ※１ 下記表「前年度の工賃等等実績額」中、「工賃等等形態」欄は、対象者の工賃等支給形態に応じ「時給・月給」のうちいずれかを選択（記載）してください。（「時給・月給」とは工賃等を算定する形態をいう。）
C15: ※２ 下記表「前年度の工賃等実績額」中、「就労時間」欄には、1か月あたりの就労時間数を記入してください。【就労時間数は必須項目です。】
C16: なお、４月の就労実績により５月に工賃等を支払った場合は、４月の欄に４月の就労実績と５月に支払った４月分の工賃等月額を記入してください。 | AC16: =AD88 -> 0
B19: ○前年度の工賃等実績額
B20: 氏 名 （個人情報は不要の為イニシャルや記号等、任意の方法で記載） | D20: 工賃等 形態 ※１ | E20: 4月 | G20: 5月 | I20: 6月 | K20: 7月 | M20: 8月 | O20: 9月 | Q20: 10月 | S20: 11月 | U20: 12月 | W20: 1月 | Y20: 2月 | AA20: 3月 | AC20: 計
E21: 就労時間 | F21: 工賃等 月額 | G21: 就労時間 | H21: 工賃等 月額 | I21: 就労時間 | J21: 工賃等 月額 | K21: 就労時間 | L21: 工賃等 月額 | M21: 就労時間 | N21: 工賃等 月額 | O21: 就労時間 | P21: 工賃等 月額 | Q21: 就労時間 | R21: 工賃等 月額 | S21: 就労時間 | T21: 工賃等 月額 | U21: 就労時間 | V21: 工賃等 月額 | W21: 就労時間 | X21: 工賃等 月額 | Y21: 就労時間 | Z21: 工賃等 月額 | AA21: 就労時間 | AB21: 工賃等 月額 | AC21: 就労時間 | AD21: 工賃等 支払額
AH22: 時給 | AI22: 時給
B23: 1 | AC23: =SUM(E23,G23,I23,K23,M23,O23,Q23,S23,U23,W23,Y23,AA23) -> 0 | AD23: =SUM(F23,H23,J23,L23,N23,P23,R23,T23,V23,X23,Z23,AB23) -> 0 | AE23: =COUNT(E23,G23,I23,K23,M23,O23,Q23,S23,U23,W23,Y23,AA23) -> 0 | AH23: 月給 | AI23: 月給
B24: =B23+1 -> 2 | AC24: =SUM(E24,G24,I24,K24,M24,O24,Q24,S24,U24,W24,Y24,AA24) -> 0 | AD24: =SUM(F24,H24,J24,L24,N24,P24,R24,T24,V24,X24,Z24,AB24) -> 0 | AE24: =COUNT(E24,G24,I24,K24,M24,O24,Q24,S24,U24,W24,Y24,AA24) -> 0
B25: =B24+1 -> 3 | AC25: =SUM(E25,G25,I25,K25,M25,O25,Q25,S25,U25,W25,Y25,AA25) -> 0 | AD25: =SUM(F25,H25,J25,L25,N25,P25,R25,T25,V25,X25,Z25,AB25) -> 0 | AE25: =COUNT(E25,G25,I25,K25,M25,O25,Q25,S25,U25,W25,Y25,AA25) -> 0
B26: =B25+1 -> 4 | AC26: =SUM(E26,G26,I26,K26,M26,O26,Q26,S26,U26,W26,Y26,AA26) -> 0 | AD26: =SUM(F26,H26,J26,L26,N26,P26,R26,T26,V26,X26,Z26,AB26) -> 0 | AE26: =COUNT(E26,G26,I26,K26,M26,O26,Q26,S26,U26,W26,Y26,AA26) -> 0
B27: =B26+1 -> 5 | AC27: =SUM(E27,G27,I27,K27,M27,O27,Q27,S27,U27,W27,Y27,AA27) -> 0 | AD27: =SUM(F27,H27,J27,L27,N27,P27,R27,T27,V27,X27,Z27,AB27) -> 0 | AE27: =COUNT(E27,G27,I27,K27,M27,O27,Q27,S27,U27,W27,Y27,AA27) -> 0
B28: =B27+1 -> 6 | AC28: =SUM(E28,G28,I28,K28,M28,O28,Q28,S28,U28,W28,Y28,AA28) -> 0 | AD28: =SUM(F28,H28,J28,L28,N28,P28,R28,T28,V28,X28,Z28,AB28) -> 0 | AE28: =COUNT(E28,G28,I28,K28,M28,O28,Q28,S28,U28,W28,Y28,AA28) -> 0
B29: =B28+1 -> 7 | AC29: =SUM(E29,G29,I29,K29,M29,O29,Q29,S29,U29,W29,Y29,AA29) -> 0 | AD29: =SUM(F29,H29,J29,L29,N29,P29,R29,T29,V29,X29,Z29,AB29) -> 0 | AE29: =COUNT(E29,G29,I29,K29,M29,O29,Q29,S29,U29,W29,Y29,AA29) -> 0
B30: =B29+1 -> 8 | AC30: =SUM(E30,G30,I30,K30,M30,O30,Q30,S30,U30,W30,Y30,AA30) -> 0 | AD30: =SUM(F30,H30,J30,L30,N30,P30,R30,T30,V30,X30,Z30,AB30) -> 0 | AE30: =COUNT(E30,G30,I30,K30,M30,O30,Q30,S30,U30,W30,Y30,AA30) -> 0
B31: =B30+1 -> 9 | AC31: =SUM(E31,G31,I31,K31,M31,O31,Q31,S31,U31,W31,Y31,AA31) -> 0 | AD31: =SUM(F31,H31,J31,L31,N31,P31,R31,T31,V31,X31,Z31,AB31) -> 0 | AE31: =COUNT(E31,G31,I31,K31,M31,O31,Q31,S31,U31,W31,Y31,AA31) -> 0
B32: =B31+1 -> 10 | AC32: =SUM(E32,G32,I32,K32,M32,O32,Q32,S32,U32,W32,Y32,AA32) -> 0 | AD32: =SUM(F32,H32,J32,L32,N32,P32,R32,T32,V32,X32,Z32,AB32) -> 0 | AE32: =COUNT(E32,G32,I32,K32,M32,O32,Q32,S32,U32,W32,Y32,AA32) -> 0
B33: =B32+1 -> 11 | AC33: =SUM(E33,G33,I33,K33,M33,O33,Q33,S33,U33,W33,Y33,AA33) -> 0 | AD33: =SUM(F33,H33,J33,L33,N33,P33,R33,T33,V33,X33,Z33,AB33) -> 0 | AE33: =COUNT(E33,G33,I33,K33,M33,O33,Q33,S33,U33,W33,Y33,AA33) -> 0
B34: =B33+1 -> 12 | AC34: =SUM(E34,G34,I34,K34,M34,O34,Q34,S34,U34,W34,Y34,AA34) -> 0 | AD34: =SUM(F34,H34,J34,L34,N34,P34,R34,T34,V34,X34,Z34,AB34) -> 0 | AE34: =COUNT(E34,G34,I34,K34,M34,O34,Q34,S34,U34,W34,Y34,AA34) -> 0
B35: =B34+1 -> 13 | AC35: =SUM(E35,G35,I35,K35,M35,O35,Q35,S35,U35,W35,Y35,AA35) -> 0 | AD35: =SUM(F35,H35,J35,L35,N35,P35,R35,T35,V35,X35,Z35,AB35) -> 0 | AE35: =COUNT(E35,G35,I35,K35,M35,O35,Q35,S35,U35,W35,Y35,AA35) -> 0
... B47: =B46+1 -> 25 | AC47: =SUM(E47,G47,I47,K47,M47,O47,Q47,S47,U47,W47,Y47,AA47) -> 0 | AD47: =SUM(F47,H47,J47,L47,N47,P47,R47,T47,V47,X47,Z47,AB47) -> 0 | AE47: =COUNT(E47,G47,I47,K47,M47,O47,Q47,S47,U47,W47,Y47,AA47) -> 0
B48: 小計 | C48: 時間数・支払額 | E48: =SUM(E23:E47) -> 0 | F48: =SUM(F23:F47) -> 0 | G48: =SUM(G23:G47) -> 0 | H48: =SUM(H23:H47) -> 0 | I48: =SUM(I23:I47) -> 0 | J48: =SUM(J23:J47) -> 0 | K48: =SUM(K23:K47) -> 0 | L48: =SUM(L23:L47) -> 0 | ... AD48: =SUM(AD23:AD47) -> 0
C49: 工賃等支払対象者数 | E49: =COUNT(E23:E47) -> 0 | G49: =COUNT(G23:G47) -> 0 | I49: =COUNT(I23:I47) -> 0 | K49: =COUNT(K23:K47) -> 0 | M49: =COUNT(M23:M47) -> 0 | O49: =COUNT(O23:O47) -> 0 | Q49: =COUNT(Q23:Q47) -> 0 | S49: =COUNT(S23:S47) -> 0 | U49: =COUNT(U23:U47) -> 0 | W49: =COUNT(W23:W47) -> 0 | Y49: =COUNT(Y23:Y47) -> 0 | AA49: =COUNT(AA23:AA47) -> 0 | AC49: =SUM(E49:AB49) -> 0
B50: =B47+1 -> 26 | AC50: =SUM(E50,G50,I50,K50,M50,O50,Q50,S50,U50,W50,Y50,AA50) -> 0 | AD50: =SUM(F50,H50,J50,L50,N50,P50,R50,T50,V50,X50,Z50,AB50) -> 0 | AE50: =COUNT(E50,G50,I50,K50,M50,O50,Q50,S50,U50,W50,Y50,AA50) -> 0
B51: =B50+1 -> 27 | AC51: =SUM(E51,G51,I51,K51,M51,O51,Q51,S51,U51,W51,Y51,AA51) -> 0 | AD51: =SUM(F51,H51,J51,L51,N51,P51,R51,T51,V51,X51,Z51,AB51) -> 0 | AE51: =COUNT(E51,G51,I51,K51,M51,O51,Q51,S51,U51,W51,Y51,AA51) -> 0
B52: =B51+1 -> 28 | AC52: =SUM(E52,G52,I52,K52,M52,O52,Q52,S52,U52,W52,Y52,AA52) -> 0 | AD52: =SUM(F52,H52,J52,L52,N52,P52,R52,T52,V52,X52,Z52,AB52) -> 0 | AE52: =COUNT(E52,G52,I52,K52,M52,O52,Q52,S52,U52,W52,Y52,AA52) -> 0
B53: =B52+1 -> 29 | AC53: =SUM(E53,G53,I53,K53,M53,O53,Q53,S53,U53,W53,Y53,AA53) -> 0 | AD53: =SUM(F53,H53,J53,L53,N53,P53,R53,T53,V53,X53,Z53,AB53) -> 0 | AE53: =COUNT(E53,G53,I53,K53,M53,O53,Q53,S53,U53,W53,Y53,AA53) -> 0
B54: =B53+1 -> 30 | AC54: =SUM(E54,G54,I54,K54,M54,O54,Q54,S54,U54,W54,Y54,AA54) -> 0 | AD54: =SUM(F54,H54,J54,L54,N54,P54,R54,T54,V54,X54,Z54,AB54) -> 0 | AE54: =COUNT(E54,G54,I54,K54,M54,O54,Q54,S54,U54,W54,Y54,AA54) -> 0
B55: =B54+1 -> 31 | AC55: =SUM(E55,G55,I55,K55,M55,O55,Q55,S55,U55,W55,Y55,AA55) -> 0 | AD55: =SUM(F55,H55,J55,L55,N55,P55,R55,T55,V55,X55,Z55,AB55) -> 0 | AE55: =COUNT(E55,G55,I55,K55,M55,O55,Q55,S55,U55,W55,Y55,AA55) -> 0
B56: =B55+1 -> 32 | AC56: =SUM(E56,G56,I56,K56,M56,O56,Q56,S56,U56,W56,Y56,AA56) -> 0 | AD56: =SUM(F56,H56,J56,L56,N56,P56,R56,T56,V56,X56,Z56,AB56) -> 0 | AE56: =COUNT(E56,G56,I56,K56,M56,O56,Q56,S56,U56,W56,Y56,AA56) -> 0
B57: =B56+1 -> 33 | AC57: =SUM(E57,G57,I57,K57,M57,O57,Q57,S57,U57,W57,Y57,AA57) -> 0 | AD57: =SUM(F57,H57,J57,L57,N57,P57,R57,T57,V57,X57,Z57,AB57) -> 0 | AE57: =COUNT(E57,G57,I57,K57,M57,O57,Q57,S57,U57,W57,Y57,AA57) -> 0
B58: =B57+1 -> 34 | AC58: =SUM(E58,G58,I58,K58,M58,O58,Q58,S58,U58,W58,Y58,AA58) -> 0 | AD58: =SUM(F58,H58,J58,L58,N58,P58,R58,T58,V58,X58,Z58,AB58) -> 0 | AE58: =COUNT(E58,G58,I58,K58,M58,O58,Q58,S58,U58,W58,Y58,AA58) -> 0
B59: =B58+1 -> 35 | AC59: =SUM(E59,G59,I59,K59,M59,O59,Q59,S59,U59,W59,Y59,AA59) -> 0 | AD59: =SUM(F59,H59,J59,L59,N59,P59,R59,T59,V59,X59,Z59,AB59) -> 0 | AE59: =COUNT(E59,G59,I59,K59,M59,O59,Q59,S59,U59,W59,Y59,AA59) -> 0
B60: =B59+1 -> 36 | AC60: =SUM(E60,G60,I60,K60,M60,O60,Q60,S60,U60,W60,Y60,AA60) -> 0 | AD60: =SUM(F60,H60,J60,L60,N60,P60,R60,T60,V60,X60,Z60,AB60) -> 0 | AE60: =COUNT(E60,G60,I60,K60,M60,O60,Q60,S60,U60,W60,Y60,AA60) -> 0
B61: =B60+1 -> 37 | AC61: =SUM(E61,G61,I61,K61,M61,O61,Q61,S61,U61,W61,Y61,AA61) -> 0 | AD61: =SUM(F61,H61,J61,L61,N61,P61,R61,T61,V61,X61,Z61,AB61) -> 0 | AE61: =COUNT(E61,G61,I61,K61,M61,O61,Q61,S61,U61,W61,Y61,AA61) -> 0
B62: =B61+1 -> 38 | AC62: =SUM(E62,G62,I62,K62,M62,O62,Q62,S62,U62,W62,Y62,AA62) -> 0 | AD62: =SUM(F62,H62,J62,L62,N62,P62,R62,T62,V62,X62,Z62,AB62) -> 0 | AE62: =COUNT(E62,G62,I62,K62,M62,O62,Q62,S62,U62,W62,Y62,AA62) -> 0
... B84: =B83+1 -> 60 | AC84: =SUM(E84,G84,I84,K84,M84,O84,Q84,S84,U84,W84,Y84,AA84) -> 0 | AD84: =SUM(F84,H84,J84,L84,N84,P84,R84,T84,V84,X84,Z84,AB84) -> 0 | AE84: =COUNT(E84,G84,I84,K84,M84,O84,Q84,S84,U84,W84,Y84,AA84) -> 0
B85: 小計 | C85: 時間数・支払額 | E85: =SUM(E50:E84) -> 0 | F85: =SUM(F50:F84) -> 0 | G85: =SUM(G50:G84) -> 0 | H85: =SUM(H50:H84) -> 0 | I85: =SUM(I50:I84) -> 0 | J85: =SUM(J50:J84) -> 0 | K85: =SUM(K50:K84) -> 0 | L85: =SUM(L50:L84) -> 0 | ... AD85: =SUM(AD50:AD84) -> 0
C86: 工賃等支払対象者数 | E86: =COUNT(E50:E84) -> 0 | G86: =COUNT(G50:G84) -> 0 | I86: =COUNT(I50:I84) -> 0 | K86: =COUNT(K50:K84) -> 0 | M86: =COUNT(M50:M84) -> 0 | O86: =COUNT(O50:O84) -> 0 | Q86: =COUNT(Q50:Q84) -> 0 | S86: =COUNT(S50:S84) -> 0 | U86: =COUNT(U50:U84) -> 0 | W86: =COUNT(W50:W84) -> 0 | Y86: =COUNT(Y50:Y84) -> 0 | AA86: =COUNT(AA50:AA84) -> 0 | AC86: =SUM(E86:AB86) -> 0
D87: =COUNTIF(D50:D84,"時給")+COUNTIF(D23:D47,"時給") -> 0
B88: 合計 | C88: 時間数・支払額 | E88: =E85+E48 -> 0 | F88: =F48+F85 -> 0 | G88: =G85+G48 -> 0 | H88: =H48+H85 -> 0 | I88: =I85+I48 -> 0 | J88: =J48+J85 -> 0 | K88: =K85+K48 -> 0 | L88: =L48+L85 -> 0 | M88: =M85+M48 -> 0 | N88: =N48+N85 -> 0 | O88: =O85+O48 -> 0 | P88: =P48+P85 -> 0 | Q88: =Q85+Q48 -> 0 | R88: =R48+R85 -> 0 | S88: =S85+S48 -> 0 | T88: =T48+T85 -> 0 | U88: =U85+U48 -> 0 | V88: =V48+V85 -> 0 | W88: =W85+W48 -> 0 | X88: =X48+X85 -> 0 | Y88: =Y85+Y48 -> 0 | Z88: =Z48+Z85 -> 0 | AA88: =AA85+AA48 -> 0 | AB88: =AB48+AB85 -> 0 | AC88: =AC85+AC48 -> 0 | AD88: =AD48+AD85 -> 0
C89: 工賃等支払対象者数 | E89: =E49+E86 -> 0 | G89: =G49+G86 -> 0 | I89: =I49+I86 -> 0 | K89: =K49+K86 -> 0 | M89: =M49+M86 -> 0 | O89: =O49+O86 -> 0 | Q89: =Q49+Q86 -> 0 | S89: =S49+S86 -> 0 | U89: =U49+U86 -> 0 | W89: =W49+W86 -> 0 | Y89: =Y49+Y86 -> 0 | AA89: =AA49+AA86 -> 0 | AC89: =AC49+AC86 -> 0
