Workbook
Name 印刷: [1]table!$E$3
Name 印刷: [1]table!$E$3
Name 印刷: [1]table!$E$3

Sheet 第1号
A2: 第１号様式（第２条関係）
D7: 高知県知事 様
A12: 承 諾 書
B20: 【 | F20: 】 | G20: 指定 | M20: 競技名 | P20: （ | AA20: ）
M22: 氏名 | P22: （ | AA22: ）
A27: 令和 | H27: 年度特別強化選手として競技力向上に努めます。
F30: 令和 | I30: 年 | K30: 月 | M30: 日
K32: 住所
K34: 電話
I36: ※選手が高校生以下の場合は、保護者氏名を記入して下さい。
I38: 保護者氏名（自署）

Sheet 第2号
A2: 第２号様式（第６条関係）
V3: 令和 | Y3: 年 | AA3: 月 | AC3: 日
B5: 社会福祉法人高知県社会福祉協議会
B6: 会長 井上 浩之 様
P8: 氏名
A10: 助 成 金 概 算 払 請 求 書
A12: 令和 年度特別強化選手支援事業助成金（令和 年 月 日付け 高スポ第 号）を下記のとおり概算請求交付されるよう請求します。
A15: 記
C16: 助成金交付決定額 | V16: 円
C17: 今回請求額 | V17: 円
D20: 振込銀行名 | J20: 種目 | L20: 口座番号 | Q20: 口座名義人（フリガナ）
H21: 銀行
H22: 支店

Sheet 第3号
A2: 第２号様式（第６条関係）
V3: 令和 | Y3: 年 | AA3: 月 | AC3: 日
B5: 社会福祉法人高知県社会福祉協議会
B6: 会長 井上 浩之 様
P8: 氏名
A10: 事 業 実 績 報 告 書
A12: 令和 年度特別強化選手支援事業助成金についての実績を下記のとおり報告します。
A14: 記
C16: 1 | E16: 補助金交付額 | V16: 円
C18: 2 | E18: 事業内容 | L18: 特別強化選手支援事業

Sheet 入力シート
B1: 【基本情報】 | K1: 【事業の成果】
B2: 年度 | C2: 提出日 | D2: 選手名 | E2: 記載責任者 | F2: 競技名 | G2: 指定区分 | H2: 連絡先
A3: ※入力例 | B3: 令和○年度 | C3: 令和○年○月○日 | D3: 高知 太郎 | E3: 高知 一郎 | F3: パラ陸上 | G3: S | H3: 090-0000-1111
A6: 【予算】 | E6: 【決算】 | K6: 【事業の課題】
A7: 収入 | C7: 支出 | E7: 収入 | G7: 支出
A8: 助成金 | B8: =IF(G4="A",300000,IF(G4="S",500000,"")) | C8: 旅費 | E8: 助成金 | G8: 旅費 | H8: =H37+L37 -> 0
C9: 報償費 | G9: 報償費 | H9: =I37+M37 -> 0
A10: 負担金 | C10: 需用費 | E10: 負担金 | G10: 需用費 | H10: =J37+N37 -> 0
C11: 使用料及び賃借料 | G11: 使用料及び賃借料 | H11: =K37+O37 -> 0
A12: 合計 | B12: =SUM(B8:B11) -> 0 | C12: 合計 | D12: =SUM(D8:D11) -> 0 | E12: 合計 | F12: =SUM(F8:F11) -> 0 | G12: 合計 | H12: =SUM(H8:H11) -> 0
A14: 【事業別内訳】 | H14: 助成金 | L14: 負担金 | P14: 説明（内訳等）
A15: 事業別No. | B15: 事業内容 | C15: 期間 | D15: 会場 | E15: 場所 | F15: 選手数（延人数） | G15: 指導者数（延人数） | H15: 旅費 | I15: 報償費 | J15: 需用費 | K15: 使用料及び賃借料 | L15: 旅費 | M15: 報償費 | N15: 需用費 | O15: 使用料及び賃借料 | P15: 旅費 | Q15: 報償費 | R15: 需用費 | S15: 使用料及び賃借料
A16: 入力例 | B16: Ａ 遠征（県外） | C16: 7/20～7/21 | D16: 東京アリーナ | E16: 東京都1-1 | F16: 3 | G16: 2 | H16: 12000 | L16: 600 | P16: 宿泊費12,000円、自己負担600円
A17: 1
A18: 2
A19: 3
A20: 4
A21: 5
A22: 6
A23: 7
A24: 8
A25: 9
A26: 10
A27: 11
A28: 12
... A36: 20
A37: 合計 | H37: =SUM(H17:H36) -> 0 | I37: =SUM(I17:I36) -> 0 | J37: =SUM(J17:J36) -> 0 | K37: =SUM(K17:K36) -> 0 | L37: =SUM(L17:L36) -> 0 | M37: =SUM(M17:M36) -> 0 | N37: =SUM(N17:N36) -> 0 | O37: =SUM(O17:O36) -> 0
A38: 残額 | H38: =$B$8-SUM(H37:K37) -> #VALUE! | L38: =$B$10-SUM(L37:O37) -> 0

Sheet 第4号-1
A1: =入力シート!B4&"特別強化選手支援事業報告書" -> 特別強化選手支援事業報告書
F2: =IF(入力シート!C4="","",入力シート!C4)
E3: 競技名 | F3: =IF(入力シート!F4="","",入力シート!F4)
E4: 指定選手名 | F4: =IF(入力シート!D4="","",入力シート!D4)
E5: 記載責任者 | F5: =IF(入力シート!E4="","",入力シート!E4)
E6: 連絡先・TEL | F6: =IF(入力シート!H4="","",入力シート!H4)
A8: １ 事業実績
A9: （１）事業別内訳
A10: 事業別No． | B10: 事業内容 | C10: 期間 | D10: 会場 | E10: 選手（延数） | F10: 指導者数（延数） | G10: 強化事業費
A11: 1 | B11: =IF(入力シート!B17="","",入力シート!B17) | C11: =IF(入力シート!C17="","",入力シート!C17) | D11: =IF(入力シート!D17="","",入力シート!D17) | E11: =IF(入力シート!F17="","",入力シート!F17) | F11: =IF(入力シート!G17="","",入力シート!G17) | G11: =IF(SUM(入力シート!H17:O17)=0,"",SUM(入力シート!H17:O17))
A12: 2 | B12: =IF(入力シート!B18="","",入力シート!B18) | C12: =IF(入力シート!C18="","",入力シート!C18) | D12: =IF(入力シート!D18="","",入力シート!D18) | E12: =IF(入力シート!F18="","",入力シート!F18) | F12: =IF(入力シート!G18="","",入力シート!G18) | G12: =IF(SUM(入力シート!H18:O18)=0,"",SUM(入力シート!H18:O18))
A13: 3 | B13: =IF(入力シート!B19="","",入力シート!B19) | C13: =IF(入力シート!C19="","",入力シート!C19) | D13: =IF(入力シート!D19="","",入力シート!D19) | E13: =IF(入力シート!F19="","",入力シート!F19) | F13: =IF(入力シート!G19="","",入力シート!G19) | G13: =IF(SUM(入力シート!H19:O19)=0,"",SUM(入力シート!H19:O19))
A14: 4 | B14: =IF(入力シート!B20="","",入力シート!B20) | C14: =IF(入力シート!C20="","",入力シート!C20) | D14: =IF(入力シート!D20="","",入力シート!D20) | E14: =IF(入力シート!F20="","",入力シート!F20) | F14: =IF(入力シート!G20="","",入力シート!G20) | G14: =IF(SUM(入力シート!H20:O20)=0,"",SUM(入力シート!H20:O20))
A15: 5 | B15: =IF(入力シート!B21="","",入力シート!B21) | C15: =IF(入力シート!C21="","",入力シート!C21) | D15: =IF(入力シート!D21="","",入力シート!D21) | E15: =IF(入力シート!F21="","",入力シート!F21) | F15: =IF(入力シート!G21="","",入力シート!G21) | G15: =IF(SUM(入力シート!H21:O21)=0,"",SUM(入力シート!H21:O21))
A16: 6 | B16: =IF(入力シート!B22="","",入力シート!B22) | C16: =IF(入力シート!C22="","",入力シート!C22) | D16: =IF(入力シート!D22="","",入力シート!D22) | E16: =IF(入力シート!F22="","",入力シート!F22) | F16: =IF(入力シート!G22="","",入力シート!G22) | G16: =IF(SUM(入力シート!H22:O22)=0,"",SUM(入力シート!H22:O22))
A17: 7 | B17: =IF(入力シート!B23="","",入力シート!B23) | C17: =IF(入力シート!C23="","",入力シート!C23) | D17: =IF(入力シート!D23="","",入力シート!D23) | E17: =IF(入力シート!F23="","",入力シート!F23) | F17: =IF(入力シート!G23="","",入力シート!G23) | G17: =IF(SUM(入力シート!H23:O23)=0,"",SUM(入力シート!H23:O23))
A18: 8 | B18: =IF(入力シート!B24="","",入力シート!B24) | C18: =IF(入力シート!C24="","",入力シート!C24) | D18: =IF(入力シート!D24="","",入力シート!D24) | E18: =IF(入力シート!F24="","",入力シート!F24) | F18: =IF(入力シート!G24="","",入力シート!G24) | G18: =IF(SUM(入力シート!H24:O24)=0,"",SUM(入力シート!H24:O24))
A19: 9 | B19: =IF(入力シート!B25="","",入力シート!B25) | C19: =IF(入力シート!C25="","",入力シート!C25) | D19: =IF(入力シート!D25="","",入力シート!D25) | E19: =IF(入力シート!F25="","",入力シート!F25) | F19: =IF(入力シート!G25="","",入力シート!G25) | G19: =IF(SUM(入力シート!H25:O25)=0,"",SUM(入力シート!H25:O25))
A20: 10 | B20: =IF(入力シート!B26="","",入力シート!B26) | C20: =IF(入力シート!C26="","",入力シート!C26) | D20: =IF(入力シート!D26="","",入力シート!D26) | E20: =IF(入力シート!F26="","",入力シート!F26) | F20: =IF(入力シート!G26="","",入力シート!G26) | G20: =IF(SUM(入力シート!H26:O26)=0,"",SUM(入力シート!H26:O26))
A21: 合 計 | E21: =SUM(E11:E20) -> 0 | F21: =SUM(F11:F20) -> 0 | G21: =SUM(G11:G20) -> 0
A22: ※事業内容については、（Ａ遠征 Ｂ合宿 Ｃ一般練習 Ｄその他）により記載すること。
A24: ２ 事業成果
A25: =IF(入力シート!K2="","",入力シート!K2)
A31: ３ 反省と課題
A32: =IF(入力シート!K7="","",入力シート!K7)
A39: =A1 -> 特別強化選手支援事業報告書
F40: =F2
E41: 競技名 | F41: =F3
E42: 指定選手名 | F42: =F4
E43: 記載責任者 | F43: =F5
E44: 連絡先・TEL | F44: =F6
A46: １ 事業実績
A47: （１）事業別内訳
A48: 事業別No． | B48: 事業内容 | C48: 期間 | D48: 会場 | E48: 選手（延数） | F48: 指導者数（延数） | G48: 強化事業費
A49: 11 | B49: =IF(入力シート!B27="","",入力シート!B27) | C49: =IF(入力シート!C27="","",入力シート!C27) | D49: =IF(入力シート!D27="","",入力シート!D27) | E49: =IF(入力シート!F27="","",入力シート!F27) | F49: =IF(入力シート!G27="","",入力シート!G27) | G49: =IF(SUM(入力シート!H27:O27)=0,"",SUM(入力シート!H27:O27))
A50: 12 | B50: =IF(入力シート!B28="","",入力シート!B28) | C50: =IF(入力シート!C28="","",入力シート!C28) | D50: =IF(入力シート!D28="","",入力シート!D28) | E50: =IF(入力シート!F28="","",入力シート!F28) | F50: =IF(入力シート!G28="","",入力シート!G28) | G50: =IF(SUM(入力シート!H28:O28)=0,"",SUM(入力シート!H28:O28))
A51: 13 | B51: =IF(入力シート!B29="","",入力シート!B29) | C51: =IF(入力シート!C29="","",入力シート!C29) | D51: =IF(入力シート!D29="","",入力シート!D29) | E51: =IF(入力シート!F29="","",入力シート!F29) | F51: =IF(入力シート!G29="","",入力シート!G29) | G51: =IF(SUM(入力シート!H29:O29)=0,"",SUM(入力シート!H29:O29))
A52: 14 | B52: =IF(入力シート!B30="","",入力シート!B30) | C52: =IF(入力シート!C30="","",入力シート!C30) | D52: =IF(入力シート!D30="","",入力シート!D30) | E52: =IF(入力シート!F30="","",入力シート!F30) | F52: =IF(入力シート!G30="","",入力シート!G30) | G52: =IF(SUM(入力シート!H30:O30)=0,"",SUM(入力シート!H30:O30))
A53: 15 | B53: =IF(入力シート!B31="","",入力シート!B31) | C53: =IF(入力シート!C31="","",入力シート!C31) | D53: =IF(入力シート!D31="","",入力シート!D31) | E53: =IF(入力シート!F31="","",入力シート!F31) | F53: =IF(入力シート!G31="","",入力シート!G31) | G53: =IF(SUM(入力シート!H31:O31)=0,"",SUM(入力シート!H31:O31))
A54: 16 | B54: =IF(入力シート!B32="","",入力シート!B32) | C54: =IF(入力シート!C32="","",入力シート!C32) | D54: =IF(入力シート!D32="","",入力シート!D32) | E54: =IF(入力シート!F32="","",入力シート!F32) | F54: =IF(入力シート!G32="","",入力シート!G32) | G54: =IF(SUM(入力シート!H32:O32)=0,"",SUM(入力シート!H32:O32))
...

Sheet 第4号-2
A1: =入力シート!B4&"特別強化選手支援事業決算書" -> 特別強化選手支援事業決算書
A3: （収入の部） | L3: 単位：円
A4: 科 目 | C4: 決算額 | D4: 説 明
A5: 助成金 | C5: =IF(入力シート!F8="","",入力シート!F8)
A6: 負担金 | C6: =IF(入力シート!F10="","",入力シート!F10)
A7: 合 計 | C7: =IF(SUM(C5:C6)=0,"",SUM(C5:C6))
A8: （支出の部） | L8: 単位：円
A9: 科 目 | C9: 決算額 | D9: 内 訳 | F9: 説 明
D10: 助成金 | E10: 負担金
A12: 旅費 | C12: =IF(SUM(D12:E12)=0,"",SUM(D12:E12)) | D12: =入力シート!H37 -> 0 | E12: =入力シート!L37 -> 0 | F12: 旅費
A13: 報償費 | C13: =IF(SUM(D13:E13)=0,"",SUM(D13:E13)) | D13: =入力シート!I37 -> 0 | E13: =入力シート!M37 -> 0 | F13: 謝金
A14: 需用費 | C14: =IF(SUM(D14:E14)=0,"",SUM(D14:E14)) | D14: =入力シート!J37 -> 0 | E14: =入力シート!N37 -> 0 | F14: 競技用具
A15: 使用料 及び賃借料 | C15: =IF(SUM(D15:E15)=0,"",SUM(D15:E15)) | D15: =入力シート!K37 -> 0 | E15: =入力シート!O37 -> 0 | F15: 会場借上料等
A16: 合 計 | C16: =IF(SUM(C12:C15)=0,"",SUM(C12:C15)) | D16: =IF(SUM(D12:D15)=0,"",SUM(D12:D15)) | E16: =IF(SUM(E12:E15)=0,"",SUM(E12:E15))

Sheet 第4号-3
A1: =入力シート!B4&"特別強化選手支援事業決算額内訳" -> 特別強化選手支援事業決算額内訳
A2: （支出の部） | K2: 単位：円
A3: 事業 No. | B3: 旅 費 | D3: 報償費 | F3: 需用費 | H3: 使用料及び賃借料 | J3: 事業別小計 | L3: 事業別合計
B4: 助成金 | C4: 負担金 | D4: 助成金 | E4: 負担金 | F4: 助成金 | G4: 負担金 | H4: 助成金 | I4: 負担金 | J4: 助成金 | K4: 負担金
A5: 1 | B5: =入力シート!H17 -> 0 | C5: =入力シート!L17 -> 0 | D5: =入力シート!I17 -> 0 | E5: =入力シート!M17 -> 0 | F5: =入力シート!J17 -> 0 | G5: =入力シート!N17 -> 0 | H5: =入力シート!K17 -> 0 | I5: =入力シート!O17 -> 0 | J5: =SUM(B5+D5+F5+H5) -> 0 | K5: =SUM(C5+E5+G5+I5) -> 0 | L5: =SUM(J5:K5) -> 0
A6: 2 | B6: =入力シート!H18 -> 0 | C6: =入力シート!L18 -> 0 | D6: =入力シート!I18 -> 0 | E6: =入力シート!M18 -> 0 | F6: =入力シート!J18 -> 0 | G6: =入力シート!N18 -> 0 | H6: =入力シート!K18 -> 0 | I6: =入力シート!O18 -> 0 | J6: =SUM(B6+D6+F6+H6) -> 0 | K6: =SUM(C6+E6+G6+I6) -> 0 | L6: =SUM(J6:K6) -> 0
A7: 3 | B7: =入力シート!H19 -> 0 | C7: =入力シート!L19 -> 0 | D7: =入力シート!I19 -> 0 | E7: =入力シート!M19 -> 0 | F7: =入力シート!J19 -> 0 | G7: =入力シート!N19 -> 0 | H7: =入力シート!K19 -> 0 | I7: =入力シート!O19 -> 0 | J7: =SUM(B7+D7+F7+H7) -> 0 | K7: =SUM(C7+E7+G7+I7) -> 0 | L7: =SUM(J7:K7) -> 0
A8: 4 | B8: =入力シート!H20 -> 0 | C8: =入力シート!L20 -> 0 | D8: =入力シート!I20 -> 0 | E8: =入力シート!M20 -> 0 | F8: =入力シート!J20 -> 0 | G8: =入力シート!N20 -> 0 | H8: =入力シート!K20 -> 0 | I8: =入力シート!O20 -> 0 | J8: =SUM(B8+D8+F8+H8) -> 0 | K8: =SUM(C8+E8+G8+I8) -> 0 | L8: =SUM(J8:K8) -> 0
A9: 5 | B9: =入力シート!H21 -> 0 | C9: =入力シート!L21 -> 0 | D9: =入力シート!I21 -> 0 | E9: =入力シート!M21 -> 0 | F9: =入力シート!J21 -> 0 | G9: =入力シート!N21 -> 0 | H9: =入力シート!K21 -> 0 | I9: =入力シート!O21 -> 0 | J9: =SUM(B9+D9+F9+H9) -> 0 | K9: =SUM(C9+E9+G9+I9) -> 0 | L9: =SUM(J9:K9) -> 0
A10: 6 | B10: =入力シート!H22 -> 0 | C10: =入力シート!L22 -> 0 | D10: =入力シート!I22 -> 0 | E10: =入力シート!M22 -> 0 | F10: =入力シート!J22 -> 0 | G10: =入力シート!N22 -> 0 | H10: =入力シート!K22 -> 0 | I10: =入力シート!O22 -> 0 | J10: =SUM(B10+D10+F10+H10) -> 0 | K10: =SUM(C10+E10+G10+I10) -> 0 | L10: =SUM(J10:K10) -> 0
A11: 7 | B11: =入力シート!H23 -> 0 | C11: =入力シート!L23 -> 0 | D11: =入力シート!I23 -> 0 | E11: =入力シート!M23 -> 0 | F11: =入力シート!J23 -> 0 | G11: =入力シート!N23 -> 0 | H11: =入力シート!K23 -> 0 | I11: =入力シート!O23 -> 0 | J11: =SUM(B11+D11+F11+H11) -> 0 | K11: =SUM(C11+E11+G11+I11) -> 0 | L11: =SUM(J11:K11) -> 0
A12: 8 | B12: =入力シート!H24 -> 0 | C12: =入力シート!L24 -> 0 | D12: =入力シート!I24 -> 0 | E12: =入力シート!M24 -> 0 | F12: =入力シート!J24 -> 0 | G12: =入力シート!N24 -> 0 | H12: =入力シート!K24 -> 0 | I12: =入力シート!O24 -> 0 | J12: =SUM(B12+D12+F12+H12) -> 0 | K12: =SUM(C12+E12+G12+I12) -> 0 | L12: =SUM(J12:K12) -> 0
A13: 9 | B13: =入力シート!H25 -> 0 | C13: =入力シート!L25 -> 0 | D13: =入力シート!I25 -> 0 | E13: =入力シート!M25 -> 0 | F13: =入力シート!J25 -> 0 | G13: =入力シート!N25 -> 0 | H13: =入力シート!K25 -> 0 | I13: =入力シート!O25 -> 0 | J13: =SUM(B13+D13+F13+H13) -> 0 | K13: =SUM(C13+E13+G13+I13) -> 0 | L13: =SUM(J13:K13) -> 0
A14: 10 | B14: =入力シート!H26 -> 0 | C14: =入力シート!L26 -> 0 | D14: =入力シート!I26 -> 0 | E14: =入力シート!M26 -> 0 | F14: =入力シート!J26 -> 0 | G14: =入力シート!N26 -> 0 | H14: =入力シート!K26 -> 0 | I14: =入力シート!O26 -> 0 | J14: =SUM(B14+D14+F14+H14) -> 0 | K14: =SUM(C14+E14+G14+I14) -> 0 | L14: =SUM(J14:K14) -> 0
A15: 合計 | B15: =SUM(B5:B14) -> 0 | C15: =SUM(C5:C14) -> 0 | D15: =SUM(D5:D14) -> 0 | E15: =SUM(E5:E14) -> 0 | F15: =SUM(F5:F14) -> 0 | G15: =SUM(G5:G14) -> 0 | H15: =SUM(H5:H14) -> 0 | I15: =SUM(I5:I14) -> 0 | ... L15: =SUM(L5:L14) -> 0
B16: =SUM(B15:C15) -> 0 | D16: =SUM(D15:E15) -> 0 | F16: =SUM(F15:G15) -> 0 | H16: =SUM(H15:I15) -> 0 | J16: =SUM(J15:K15) -> 0
A17: =A1 -> 特別強化選手支援事業決算額内訳
A18: （支出の部） | K18: 単位：円
A19: 事業 No. | B19: 旅 費 | D19: 報償費 | F19: 需用費 | H19: 使用料及び賃借料 | J19: 事業別小計 | L19: 事業別合計
B20: 助成金 | C20: 負担金 | D20: 助成金 | E20: 負担金 | F20: 助成金 | G20: 負担金 | H20: 助成金 | I20: 負担金 | J20: 助成金 | K20: 負担金
A21: 11 | B21: =入力シート!H27 -> 0 | C21: =入力シート!L27 -> 0 | D21: =入力シート!I27 -> 0 | E21: =入力シート!M27 -> 0 | F21: =入力シート!J27 -> 0 | G21: =入力シート!N27 -> 0 | H21: =入力シート!K27 -> 0 | I21: =入力シート!O27 -> 0 | J21: =SUM(B21+D21+F21+H21) -> 0 | K21: =SUM(C21+E21+G21+I21) -> 0 | L21: =SUM(J21:K21) -> 0
A22: 12 | B22: =入力シート!H28 -> 0 | C22: =入力シート!L28 -> 0 | D22: =入力シート!I28 -> 0 | E22: =入力シート!M28 -> 0 | F22: =入力シート!J28 -> 0 | G22: =入力シート!N28 -> 0 | H22: =入力シート!K28 -> 0 | I22: =入力シート!O28 -> 0 | J22: =SUM(B22+D22+F22+H22) -> 0 | K22: =SUM(C22+E22+G22+I22) -> 0 | L22: =SUM(J22:K22) -> 0
A23: 13 | B23: =入力シート!H29 -> 0 | C23: =入力シート!L29 -> 0 | D23: =入力シート!I29 -> 0 | E23: =入力シート!M29 -> 0 | F23: =入力シート!J29 -> 0 | G23: =入力シート!N29 -> 0 | H23: =入力シート!K29 -> 0 | I23: =入力シート!O29 -> 0 | J23: =SUM(B23+D23+F23+H23) -> 0 | K23: =SUM(C23+E23+G23+I23) -> 0 | L23: =SUM(J23:K23) -> 0
A24: 14 | B24: =入力シート!H30 -> 0 | C24: =入力シート!L30 -> 0 | D24: =入力シート!I30 -> 0 | E24: =入力シート!M30 -> 0 | F24: =入力シート!J30 -> 0 | G24: =入力シート!N30 -> 0 | H24: =入力シート!K30 -> 0 | I24: =入力シート!O30 -> 0 | J24: =SUM(B24+D24+F24+H24) -> 0 | K24: =SUM(C24+E24+G24+I24) -> 0 | L24: =SUM(J24:K24) -> 0
A25: 15 | B25: =入力シート!H31 -> 0 | C25: =入力シート!L31 -> 0 | D25: =入力シート!I31 -> 0 | E25: =入力シート!M31 -> 0 | F25: =入力シート!J31 -> 0 | G25: =入力シート!N31 -> 0 | H25: =入力シート!K31 -> 0 | I25: =入力シート!O31 -> 0 | J25: =SUM(B25+D25+F25+H25) -> 0 | K25: =SUM(C25+E25+G25+I25) -> 0 | L25: =SUM(J25:K25) -> 0
A26: 16 | B26: =入力シート!H32 -> 0 | C26: =入力シート!L32 -> 0 | D26: =入力シート!I32 -> 0 | E26: =入力シート!M32 -> 0 | F26: =入力シート!J32 -> 0 | G26: =入力シート!N32 -> 0 | H26: =入力シート!K32 -> 0 | I26: =入力シート!O32 -> 0 | J26: =SUM(B26+D26+F26+H26) -> 0 | K26: =SUM(C26+E26+G26+I26) -> 0 | L26: =SUM(J26:K26) -> 0
A27: 17 | B27: =入力シート!H33 -> 0 | C27: =入力シート!L33 -> 0 | D27: =入力シート!I33 -> 0 | E27: =入力シート!M33 -> 0 | F27: =入力シート!J33 -> 0 | G27: =入力シート!N33 -> 0 | H27: =入力シート!K33 -> 0 | I27: =入力シート!O33 -> 0 | J27: =SUM(B27+D27+F27+H27) -> 0 | K27: =SUM(C27+E27+G27+I27) -> 0 | L27: =SUM(J27:K27) -> 0
A28: 18 | B28: =入力シート!H34 -> 0 | C28: =入力シート!L34 -> 0 | D28: =入力シート!I34 -> 0 | E28: =入力シート!M34 -> 0 | F28: =入力シート!J34 -> 0 | G28: =入力シート!N34 -> 0 | H28: =入力シート!K34 -> 0 | I28: =入力シート!O34 -> 0 | J28: =SUM(B28+D28+F28+H28) -> 0 | K28: =SUM(C28+E28+G28+I28) -> 0 | L28: =SUM(J28:K28) -> 0
A29: 19 | B29: =入力シート!H35 -> 0 | C29: =入力シート!L35 -> 0 | D29: =入力シート!I35 -> 0 | E29: =入力シート!M35 -> 0 | F29: =入力シート!J35 -> 0 | G29: =入力シート!N35 -> 0 | H29: =入力シート!K35 -> 0 | I29: =入力シート!O35 -> 0 | J29: =SUM(B29+D29+F29+H29) -> 0 | K29: =SUM(C29+E29+G29+I29) -> 0 | L29: =SUM(J29:K29) -> 0
A30: 20 | B30: =入力シート!H36 -> 0 | C30: =入力シート!L36 -> 0 | D30: =入力シート!I36 -> 0 | E30: =入力シート!M36 -> 0 | F30: =入力シート!J36 -> 0 | G30: =入力シート!N36 -> 0 | H30: =入力シート!K36 -> 0 | I30: =入力シート!O36 -> 0 | J30: =SUM(B30+D30+F30+H30) -> 0 | K30: =SUM(C30+E30+G30+I30) -> 0 | L30: =SUM(J30:K30) -> 0
A31: 合計 | B31: =SUM(B21:B30) -> 0 | C31: =SUM(C21:C30) -> 0 | D31: =SUM(D21:D30) -> 0 | E31: =SUM(E21:E30) -> 0 | F31: =SUM(F21:F30) -> 0 | G31: =SUM(G21:G30) -> 0 | H31: =SUM(H21:H30) -> 0 | I31: =SUM(I21:I30) -> 0 | ... K31: =SUM(K21:K30) -> 0 | L31: =J32 -> 0
B32: =B16+B31+C31 -> 0 | D32: =D16+D31+E31 -> 0 | F32: =F16+F31+G31 -> 0 | H32: =H16+H31+I31 -> 0 | J32: =J16+J31+K31 -> 0

Sheet 第4号-4
A1: =入力シート!B4&"特別強化選手支援事業別支出内訳" -> 特別強化選手支援事業別支出内訳
A3: 競技名 | E3: =IF(入力シート!F4="","",入力シート!F4) | R3: 事業別ＮＯ.
A4: 指定選手氏名 | E4: =IF(入力シート!D4="","",入力シート!D4)
A5: 事業内容 | E5: =IF($V$3="","",IF(VLOOKUP($V$3,入力シート!$A$15:$S$36,2,FALSE)="","",VLOOKUP($V$3,入力シート!$A$15:$S$36,2,FALSE)))
A7: 期間 | E7: =IF($V$3="","",IF(VLOOKUP($V$3,入力シート!$A$15:$S$36,3,FALSE)="","",VLOOKUP($V$3,入力シート!$A$15:$S$36,3,FALSE)))
A8: 会場 | E8: =IF($V$3="","",IF(VLOOKUP($V$3,入力シート!$A$15:$S$36,4,FALSE)="","",VLOOKUP($V$3,入力シート!$A$15:$S$36,4,FALSE)))
A9: （場 所） | E9: =IF($V$3="","",IF(VLOOKUP($V$3,入力シート!$A$15:$S$36,5,FALSE)="","",VLOOKUP($V$3,入力シート!$A$15:$S$36,5,FALSE)))
A10: 参加者数 | E10: 選 手 | J10: =IF($V$3="","",IF(VLOOKUP($V$3,入力シート!$A$15:$S$36,6,FALSE)="","",VLOOKUP($V$3,入力シート!$A$15:$K$209,6,FALSE))) | Q10: 名 | R10: 指導者 | V10: =IF($V$3="","",IF(VLOOKUP($V$3,入力シート!$A$15:$I$39,7,FALSE)="","",VLOOKUP($V$3,入力シート!$A$15:$I$39,7,FALSE))) | AC10: 名
E11: ※ 延べ人数
A13: 支出内訳 | Z13: 単位：円
A14: 科 目 | E14: 金 額 | K14: 内 訳 | S14: 説 明
A15: 旅費 | E15: =IF(SUM(N15:Q16)=0,"",SUM(N15:Q16)) | K15: 助成金 | N15: =IF($V$3="","",IF(VLOOKUP($V$3,入力シート!$A$15:$S$36,8,FALSE)="","",VLOOKUP($V$3,入力シート!$A$15:$S$36,8,FALSE))) | S15: =IF($V$3="","",IF(VLOOKUP($V$3,入力シート!$A$15:$S$36,16,FALSE)="","",VLOOKUP($V$3,入力シート!$A$15:$S$36,16,FALSE)))
K16: 負担金 | N16: =IF($V$3="","",IF(VLOOKUP($V$3,入力シート!$A$15:$S$36,12,FALSE)="","",VLOOKUP($V$3,入力シート!$A$15:$S$36,12,FALSE)))
A17: 報償費 | E17: =IF(SUM(N17:Q18)=0,"",SUM(N17:Q18)) | K17: 助成金 | N17: =IF($V$3="","",IF(VLOOKUP($V$3,入力シート!$A$15:$S$36,9,FALSE)="","",VLOOKUP($V$3,入力シート!$A$15:$S$36,9,FALSE))) | S17: =IF($V$3="","",IF(VLOOKUP($V$3,入力シート!$A$15:$S$36,17,FALSE)="","",VLOOKUP($V$3,入力シート!$A$15:$S$36,17,FALSE)))
K18: 負担金 | N18: =IF($V$3="","",IF(VLOOKUP($V$3,入力シート!$A$15:$S$36,13,FALSE)="","",VLOOKUP($V$3,入力シート!$A$15:$S$36,13,FALSE)))
A19: 需用費 | E19: =IF(SUM(N19:Q20)=0,"",SUM(N19:Q20)) | K19: 助成金 | N19: =IF($V$3="","",IF(VLOOKUP($V$3,入力シート!$A$15:$S$36,10,FALSE)="","",VLOOKUP($V$3,入力シート!$A$15:$S$36,10,FALSE))) | S19: =IF($V$3="","",IF(VLOOKUP($V$3,入力シート!$A$15:$S$36,18,FALSE)="","",VLOOKUP($V$3,入力シート!$A$15:$S$36,18,FALSE)))
K20: 負担金 | N20: =IF($V$3="","",IF(VLOOKUP($V$3,入力シート!$A$15:$S$36,14,FALSE)="","",VLOOKUP($V$3,入力シート!$A$15:$S$36,14,FALSE)))
A21: 使用料 及び賃借料 | E21: =IF(SUM(N21:Q22)=0,"",SUM(N21:Q22)) | K21: 助成金 | N21: =IF($V$3="","",IF(VLOOKUP($V$3,入力シート!$A$15:$S$36,11,FALSE)="","",VLOOKUP($V$3,入力シート!$A$15:$S$36,11,FALSE))) | S21: =IF($V$3="","",IF(VLOOKUP($V$3,入力シート!$A$15:$S$36,19,FALSE)="","",VLOOKUP($V$3,入力シート!$A$15:$S$36,19,FALSE)))
K22: 負担金 | N22: =IF($V$3="","",IF(VLOOKUP($V$3,入力シート!$A$15:$S$36,15,FALSE)="","",VLOOKUP($V$3,入力シート!$A$15:$S$36,15,FALSE)))
A23: 合計 | E23: =IF(SUM(E15:J22)=0,"",SUM(E15:J22)) | K23: 助成金 | N23: =IF(SUM(N15,N17,N19,N21)=0,"",SUM(N15,N17,N19,N21))
K24: 負担金 | N24: =IF(SUM(N16,N18,N20,N22)=0,"",SUM(N16,N18,N20,N22))
B26: ★この書類の後に、科目順に領収書を添付して下さい。

Sheet 第4号-5
A1: 領 収 書 綴 | AC1: 領 収 書 綴
A3: ※旅費 | N3: 合計額 | AA3: 円 | AC3: ※需用費 | AP3: 合計額 | BC3: 円
A5: 実施日 | H5: 交通手段 | O5: 利用区間 | V5: 宿泊地 | AC5: 物品名 | AK5: 単価 | AQ5: 数量 | AX5: 購入日
A6: 宿泊日 | H6: 単価 | K6: （1泊2食・1泊朝食・1泊夕食・素泊まり） ※いずれかに○をしてください | V6: 利用人数
A30: 領 収 書 綴 | AC30: 領 収 書 綴
A32: ※報償費 | N32: 合計額 | AA32: 円 | AC32: ※使用料及び賃借料 | AP32: 合計額 | BC32: 円
AC34: 実施日 | AO34: 期間（時間）

Sheet 第4号-6
A1: 交 通 費 受 領 書
A3: 特別強化選手名（ ）
A4: № | B4: 氏 名 | C4: 出発地 | D4: 目的地 | E4: 月 日 | F4: 行程 | G4: 鉄 道 賃 | I4: 車 賃 （バス） | K4: 車賃 37円(以内) /1km | L4: 支給額 | M4: 受領日及び 受領サイン （個人自筆）
F5: 往路 復路 | G5: 路程 （○○駅～○○駅） | H5: 料金 | I5: 路程 （○○駅～○○駅） | J5: 料金
F7: 往路 | G7: 駅～ 駅 | I7: 駅～ 駅 | L7: =SUM(H7+H8+J7+J8+K7+K8) -> 0 | M7: （受領日）
F8: 復路 | G8: 駅～ 駅 | I8: 駅～ 駅 | M8: （サイン）
F9: 往路 | G9: 駅～ 駅 | I9: 駅～ 駅 | L9: =SUM(H9+H10+J9+J10+K9+K10) -> 0 | M9: （受領日）
F10: 復路 | G10: 駅～ 駅 | I10: 駅～ 駅 | M10: （サイン）
F11: 往路 | G11: 駅～ 駅 | I11: 駅～ 駅 | L11: =SUM(H11+H12+J11+J12+K11+K12) -> 0 | M11: （受領日）
F12: 復路 | G12: 駅～ 駅 | I12: 駅～ 駅 | M12: （サイン）
F13: 往路 | G13: 駅～ 駅 | I13: 駅～ 駅 | L13: =SUM(H13+H14+J13+J14+K13+K14) -> 0 | M13: （受領日）
F14: 復路 | G14: 駅～ 駅 | I14: 駅～ 駅 | M14: （サイン）
F15: 往路 | G15: 駅～ 駅 | I15: 駅～ 駅 | L15: =SUM(H15+H16+J15+J16+K15+K16) -> 0 | M15: （受領日）
F16: 復路 | G16: 駅～ 駅 | I16: 駅～ 駅 | M16: （サイン）
F17: 往路 | G17: 駅～ 駅 | I17: 駅～ 駅 | L17: =SUM(H17+H18+J17+J18+K17+K18) -> 0 | M17: （受領日）
F18: 復路 | G18: 駅～ 駅 | I18: 駅～ 駅 | M18: （サイン）
F19: 往路 | G19: 駅～ 駅 | I19: 駅～ 駅 | L19: =SUM(H19+H20+J19+J20+K19+K20) -> 0 | M19: （受領日）
F20: 復路 | G20: 駅～ 駅 | I20: 駅～ 駅 | M20: （サイン）
F21: 往路 | G21: 駅～ 駅 | I21: 駅～ 駅 | L21: =SUM(H21+H22+J21+J22+K21+K22) -> 0 | M21: （受領日）
F22: 復路 | G22: 駅～ 駅 | I22: 駅～ 駅 | M22: （サイン）
A23: 合 計 | H23: =SUM(H7:H22) -> 0 | J23: =SUM(J7:J22) -> 0 | K23: =SUM(K7:K22) -> 0 | L23: =SUM(L7:L22) -> 0

Sheet 第5号
A2: 第５号様式（第10条関係）
AA3: 第 | AC3: 号
V4: 令和 | Y4: 年 | AA4: 月 | AC4: 日
B6: 様
Q7: 社会福祉法人高知県社会福祉協議会
Q8: 会長 井上 浩之
A10: 助 成 金 確 定 通 知 書
A12: 令和 年 月 日付け 第 号で通知した令和 年度特別強化選手支援事業助成金については、金 円を減額し、金 円に確定したので通知します。 なお、金 円は、令和 年 月 日までに戻入してください。

Sheet 出納帳
A1: =入力シート!B4&"強化費用出納帳" -> 強化費用出納帳
A2: № | B2: 月 | C2: 日 | D2: 費目 | E2: 摘 要 | F2: 収入金額 | G2: 支出金額 | H2: 差引残高
H3: =F3-G3 -> 0
H4: =F4-G4+H3 -> 0
H5: =F5-G5+H4 -> 0
H6: =F6-G6+H5 -> 0
H7: =F7-G7+H6 -> 0
H8: =F8-G8+H7 -> 0
H9: =F9-G9+H8 -> 0
H10: =F10-G10+H9 -> 0
H11: =F11-G11+H10 -> 0
H12: =F12-G12+H11 -> 0
H13: =F13-G13+H12 -> 0
H14: =F14-G14+H13 -> 0
H15: =F15-G15+H14 -> 0
... H58: =F58-G58+H57 -> 0
