Workbook
Name 事業分類: '[1]事業分類・区分'!$B$2:$H$2

Sheet プルダウン
A4: 北海道 | C4: 1.都道府県が行う事業（直接補助）
A5: 青森県 | C5: 2.沖縄県が行う事業（直接補助）
A6: 岩手県 | C6: 3.その他（1.2.以外への直接補助）
A7: 宮城県 | C7: 4.都道府県が公的5団体に補助する事業（5を除く）
A8: 秋田県 | C8: 5.沖縄県が公的5団体に補助するへき地診療所運営事業
A9: 山形県 | C9: 6.都道府県が補助する事業(4,5以外)
A10: 福島県 | C10: 7.沖縄県が補助するへき地診療所運営事業(5以外)
A11: 茨城県
A12: 栃木県
A13: 群馬県
A14: 埼玉県
A15: 千葉県
A16: 東京都
A17: 神奈川県
A18: 新潟県
A19: 富山県
A20: 石川県
A21: 福井県
A22: 山梨県
... A50: 沖縄県

Sheet 計算方法早見表
A2: a | B2: 基準額 | C2: 対象経費 | D2: 選定額 | E2: 総事業費 | F2: 寄附金その他の収入額 | G2: 差引事業費 | H2: 交付額
B3: A | C3: B | D3: D=MIN(A,B) | E3: E | F3: F | G3: G=E-F | H3: Z=MIN(D,G) | N3: ＊「国庫補助基本額」は赤字
A4: b | B4: 基準額 | C4: 対象経費 | D4: 選定額 | E4: 総事業費 | F4: 寄附金その他の収入額 | G4: 差引事業費 | H4: （比較） | I4: 補助率 | J4: 交付額 | N4: ＊「国庫補助基本所要額」が「交付額」
B5: A | C5: B | D5: D=MIN(A,B) | E5: E | F5: F | G5: G=E-F | H5: H=MIN(D,G) | I5: W | J5: Z=H*W | N5: ＊「国庫補助所要額」が「交付額」の千円以下切り捨て
A6: c | B6: 基準額 | C6: 対象経費 | D6: 選定額 | E6: 総事業費 | F6: 寄附金その他の収入額 | G6: 差引事業費 | H6: （比較） | I6: 補助率 | J6: （乗算） | K6: 都道府県補助額 | L6: 交付額
B7: A | C7: B | D7: D=MIN(A,B) | E7: H | F7: F | G7: G=E-F | H7: H=MIN(D,G) | I7: W | J7: J=H*W | K7: Y | L7: Z=MIN(J,Y)
A8: d | B8: 基準額 | C8: 対象経費 | D8: 選定額 | E8: 総事業費 | F8: 寄附金その他の収入額 | G8: 差引事業費 | H8: 都道府県補助額 | I8: 交付額
B9: A | C9: B | D9: D=MIN(A,B) | E9: E | F9: F | G9: G=E-F | H9: Y | I9: Z=MIN(D,G,Y)
A10: e | B10: 基準額 | C10: 対象経費 | D10: 選定額 | E10: 総事業費 | F10: 寄附金その他の収入額 | G10: 差引事業費 | H10: 都道府県補助額 | I10: （比較） | J10: 補助率 | K10: 交付額
B11: A | C11: B | D11: D=MIN(A,B) | E11: E | F11: F | G11: G=E-F | H11: Y | I11: I=MIN(D,G,Y) | J11: W | K11: Z=I*W
A12: f | B12: 基準額 | C12: 対象経費 | D12: 選定額 | E12: 総事業費 | F12: 寄附金その他の収入額 | G12: 差引事業費 | H12: （比較） | I12: 都道府県補助額 | J12: （比較） | K12: 補助率 | L12: 交付額
B13: A | C13: B | D13: D=MIN(A,B) | E13: E | F13: F | G13: G=E-F | H13: H=MIN(D,G) | I13: Y | J13: J=MIN(H,Y) | K13: W2 | L13: Z=J*W2
A14: g | B14: 基準額 | C14: 対象経費 | D14: 選定額 | E14: 総事業費 | F14: 寄附金その他の収入額 | G14: 差引事業費 | H14: （比較） | I14: 補助率 | J14: （乗算） | K14: 都道府県補助額 | L14: （比較） | M14: 補助率 | N14: 交付額
B15: A | C15: B | D15: D=MIN(A,B) | E15: E | F15: F | G15: G=E-F | H15: H=MIN(D,G) | I15: W1 | J15: J=H*W1 | K15: Y | L15: L=MIN(J,Y) | M15: W2 | N15: Z=L*W2
A16: h | B16: 基準額 | C16: 対象経費 | D16: 選定額 | E16: 診療収入額 | F16: （引算） | G16: 総事業費 | H16: 寄附金その他の収入額 | I16: 差引事業費 | J16: （比較） | K16: 補助率 | L16: 交付額
B17: A | C17: B | D17: D=MIN(A,B) | E17: Q | F17: R=D-Q | G17: E | H17: F | I17: G=E-F | J17: J=MIN(R,G) | K17: W | L17: Z=J*W
A18: i | B18: 基準額 | C18: 対象経費 | D18: 選定額 | E18: 診療収入額 | F18: （引算） | G18: 総事業費 | H18: 寄附金その他の収入額 | I18: 差引事業費 | J18: 都道府県補助額 | K18: （比較） | L18: 補助率 | M18: 交付額
B19: A | C19: B | D19: D=MIN(A,B) | E19: Q | F19: R=D-Q | G19: E | H19: F | I19: G=E-F | J19: Y | K19: K=MIN(R,G,Y) | L19: W | M19: Z=K*W
A20: j | B20: 基準額 | C20: 対象経費 | D20: 選定額 | E20: 診療収入額 | F20: （引算） | G20: 総事業費 | H20: 寄附金その他の収入額 | I20: 差引事業費 | J20: （比較） | K20: 補助率 | L20: （乗算） | M20: 都道府県補助額 | N20: 交付額
B21: A | C21: B | D21: D=MIN(A,B) | E21: Q | F21: R=D-Q | G21: E | H21: F | I21: G=E-F | J21: J=MIN(R,G) | K21: W | L21: L=J*W | M21: Y | N21: Z=MIN(L,Y)
A22: k | B22: 基準額 | C22: 対象経費 | D22: 選定額 | E22: 補助率 | F22: （乗算） | G22: 都道府県補助額 | H22: 交付額
B23: A | C23: B | D23: D=MIN(A,B) | E23: W | F23: F=D*W | G23: Y | H23: Z=MIN(F,Y)

Sheet 数式用
F1: 1 | G1: 2 | H1: 3
A2: 事業名 | F2: 数式用ダミー | G2: 区分 | H2: 算出方法
A3: ① | B3: へき地保健医療対策事業等 | C3: ア | E3: へき地医療支援機構運営事業 | F3: =CONCATENATE(E3,G3) -> へき地医療支援機構運営事業1.都道府県が行う事業（直接補助） | G3: 1.都道府県が行う事業（直接補助） | H3: b
C4: ア | E4: へき地医療支援機構運営事業 | F4: =CONCATENATE(E4,G4) -> へき地医療支援機構運営事業2.沖縄県が行う事業（直接補助） | G4: 2.沖縄県が行う事業（直接補助） | H4: b
C5: イ | E5: へき地医療拠点病院運営事業 | F5: =CONCATENATE(E5,G5) -> へき地医療拠点病院運営事業1.都道府県が行う事業（直接補助） | G5: 1.都道府県が行う事業（直接補助） | H5: b
C6: イ | E6: へき地医療拠点病院運営事業 | F6: =CONCATENATE(E6,G6) -> へき地医療拠点病院運営事業2.沖縄県が行う事業（直接補助） | G6: 2.沖縄県が行う事業（直接補助） | H6: b
C7: イ | E7: へき地医療拠点病院運営事業 | F7: =CONCATENATE(E7,G7) -> へき地医療拠点病院運営事業4.都道府県が公的5団体に補助する事業（5を除く） | G7: 4.都道府県が公的5団体に補助する事業（5を除く） | H7: e
C8: イ | E8: へき地医療拠点病院運営事業 | F8: =CONCATENATE(E8,G8) -> へき地医療拠点病院運営事業6.都道府県が補助する事業(4,5以外) | G8: 6.都道府県が補助する事業(4,5以外) | H8: e
C9: ウ | E9: へき地診療所運営事業 | F9: =CONCATENATE(E9,G9) -> へき地診療所運営事業1.都道府県が行う事業（直接補助） | G9: 1.都道府県が行う事業（直接補助） | H9: h
C10: ウ | E10: へき地診療所運営事業 | F10: =CONCATENATE(E10,G10) -> へき地診療所運営事業2.沖縄県が行う事業（直接補助） | G10: 2.沖縄県が行う事業（直接補助） | H10: h
C11: ウ | E11: へき地診療所運営事業 | F11: =CONCATENATE(E11,G11) -> へき地診療所運営事業4.都道府県が公的5団体に補助する事業（5を除く） | G11: 4.都道府県が公的5団体に補助する事業（5を除く） | H11: j
C12: ウ | E12: へき地診療所運営事業 | F12: =CONCATENATE(E12,G12) -> へき地診療所運営事業5.沖縄県が公的5団体に補助するへき地診療所運営事業 | G12: 5.沖縄県が公的5団体に補助するへき地診療所運営事業 | H12: j
C13: ウ | E13: へき地診療所運営事業 | F13: =CONCATENATE(E13,G13) -> へき地診療所運営事業6.都道府県が補助する事業(4,5以外) | G13: 6.都道府県が補助する事業(4,5以外) | H13: j
C14: ウ | E14: へき地診療所運営事業 | F14: =CONCATENATE(E14,G14) -> へき地診療所運営事業7.沖縄県が補助するへき地診療所運営事業(5以外) | G14: 7.沖縄県が補助するへき地診療所運営事業(5以外) | H14: j
C15: エ | E15: へき地巡回診療車（船）運営事業 | F15: =CONCATENATE(E15,G15) -> へき地巡回診療車（船）運営事業1.都道府県が行う事業（直接補助） | G15: 1.都道府県が行う事業（直接補助） | H15: h
... C36: ケ | E36: へき地診療所医師派遣強化事業 | F36: =CONCATENATE(E36,G36) -> へき地診療所医師派遣強化事業6.都道府県が補助する事業(4,5以外) | G36: 6.都道府県が補助する事業(4,5以外) | H36: j
A37: ② | B37: 救急医療体制強化事業 | C37: ア | E37: メディカルコントロール体制強化事業 | F37: =CONCATENATE(E37,G37) -> メディカルコントロール体制強化事業1.都道府県が行う事業（直接補助） | G37: 1.都道府県が行う事業（直接補助） | H37: b
C38: ア | E38: メディカルコントロール体制強化事業 | F38: =CONCATENATE(E38,G38) -> メディカルコントロール体制強化事業2.沖縄県が行う事業（直接補助） | G38: 2.沖縄県が行う事業（直接補助） | H38: b
C39: イ | E39: 搬送困難事例受入医療機関支援事業 | F39: =CONCATENATE(E39,G39) -> 搬送困難事例受入医療機関支援事業1.都道府県が行う事業（直接補助） | G39: 1.都道府県が行う事業（直接補助） | H39: b
C40: イ | E40: 搬送困難事例受入医療機関支援事業 | F40: =CONCATENATE(E40,G40) -> 搬送困難事例受入医療機関支援事業2.沖縄県が行う事業（直接補助） | G40: 2.沖縄県が行う事業（直接補助） | H40: b
C41: イ | E41: 搬送困難事例受入医療機関支援事業 | F41: =CONCATENATE(E41,G41) -> 搬送困難事例受入医療機関支援事業4.都道府県が公的5団体に補助する事業（5を除く） | G41: 4.都道府県が公的5団体に補助する事業（5を除く） | H41: c
C42: イ | E42: 搬送困難事例受入医療機関支援事業 | F42: =CONCATENATE(E42,G42) -> 搬送困難事例受入医療機関支援事業6.都道府県が補助する事業(4,5以外) | G42: 6.都道府県が補助する事業(4,5以外) | H42: c
C43: ウ | E43: Tele-ICU体制整備促進事業 | F43: =CONCATENATE(E43,G43) -> Tele-ICU体制整備促進事業1.都道府県が行う事業（直接補助） | G43: 1.都道府県が行う事業（直接補助） | H43: b
C44: ウ | E44: Tele-ICU体制整備促進事業 | F44: =CONCATENATE(E44,G44) -> Tele-ICU体制整備促進事業2.沖縄県が行う事業（直接補助） | G44: 2.沖縄県が行う事業（直接補助） | H44: b
C45: ウ | E45: Tele-ICU体制整備促進事業 | F45: =CONCATENATE(E45,G45) -> Tele-ICU体制整備促進事業4.都道府県が公的5団体に補助する事業（5を除く） | G45: 4.都道府県が公的5団体に補助する事業（5を除く） | H45: c
C46: ウ | E46: Tele-ICU体制整備促進事業 | F46: =CONCATENATE(E46,G46) -> Tele-ICU体制整備促進事業6.都道府県が補助する事業(4,5以外) | G46: 6.都道府県が補助する事業(4,5以外) | H46: c
C47: エ | E47: 病院救急車活用モデル事業 | F47: =CONCATENATE(E47,G47) -> 病院救急車活用モデル事業1.都道府県が行う事業（直接補助） | G47: 1.都道府県が行う事業（直接補助） | H47: b
C48: エ | E48: 病院救急車活用モデル事業 | F48: =CONCATENATE(E48,G48) -> 病院救急車活用モデル事業2.沖縄県が行う事業（直接補助） | G48: 2.沖縄県が行う事業（直接補助） | H48: b
C49: エ | E49: 病院救急車活用モデル事業 | F49: =CONCATENATE(E49,G49) -> 病院救急車活用モデル事業4.都道府県が公的5団体に補助する事業（5を除く） | G49: 4.都道府県が公的5団体に補助する事業（5を除く） | H49: c
C50: エ | E50: 病院救急車活用モデル事業 | F50: =CONCATENATE(E50,G50) -> 病院救急車活用モデル事業6.都道府県が補助する事業(4,5以外) | G50: 6.都道府県が補助する事業(4,5以外) | H50: c
A51: ③ | B51: 災害医療対策事業等 | C51: ア | E51: 医療施設耐震化促進事業 | F51: =CONCATENATE(E51,G51) -> 医療施設耐震化促進事業6.都道府県が補助する事業(4,5以外) | G51: 6.都道府県が補助する事業(4,5以外) | H51: g
C52: イ | E52: 防災訓練等参加支援事業 | F52: =CONCATENATE(E52,G52) -> 防災訓練等参加支援事業1.都道府県が行う事業（直接補助） | G52: 1.都道府県が行う事業（直接補助） | H52: a
C53: イ | E53: 防災訓練等参加支援事業 | F53: =CONCATENATE(E53,G53) -> 防災訓練等参加支援事業2.沖縄県が行う事業（直接補助） | G53: 2.沖縄県が行う事業（直接補助） | H53: a
C54: イ | E54: 防災訓練等参加支援事業 | F54: =CONCATENATE(E54,G54) -> 防災訓練等参加支援事業4.都道府県が公的5団体に補助する事業（5を除く） | G54: 4.都道府県が公的5団体に補助する事業（5を除く） | H54: d
C55: イ | E55: 防災訓練等参加支援事業 | F55: =CONCATENATE(E55,G55) -> 防災訓練等参加支援事業6.都道府県が補助する事業(4,5以外) | G55: 6.都道府県が補助する事業(4,5以外) | H55: d
C56: ウ | E56: ＤＭＡＴ活動支援事業 | F56: =CONCATENATE(E56,G56) -> ＤＭＡＴ活動支援事業1.都道府県が行う事業（直接補助） | G56: 1.都道府県が行う事業（直接補助） | H56: a
C57: ウ | E57: ＤＭＡＴ活動支援事業 | F57: =CONCATENATE(E57,G57) -> ＤＭＡＴ活動支援事業2.沖縄県が行う事業（直接補助） | G57: 2.沖縄県が行う事業（直接補助） | H57: a
C58: ウ | E58: ＤＭＡＴ活動支援事業 | F58: =CONCATENATE(E58,G58) -> ＤＭＡＴ活動支援事業4.都道府県が公的5団体に補助する事業（5を除く） | G58: 4.都道府県が公的5団体に補助する事業（5を除く） | H58: e
C59: ウ | E59: ＤＭＡＴ活動支援事業 | F59: =CONCATENATE(E59,G59) -> ＤＭＡＴ活動支援事業6.都道府県が補助する事業(4,5以外) | G59: 6.都道府県が補助する事業(4,5以外) | H59: e
C60: エ | E60: ＤＭＡＴ訓練事業 | F60: =CONCATENATE(E60,G60) -> ＤＭＡＴ訓練事業1.都道府県が行う事業（直接補助） | G60: 1.都道府県が行う事業（直接補助） | H60: a
...

Sheet 事業リスト（ＢＤ１）
A1: 1 | B1: 2 | C1: 3 | D1: 4 | E1: 5 | F1: 6 | H1: 7 | I1: 8 | J1: 9 | K1: 10 | L1: 11 | M1: 12 | N1: 13 | O1: 14 | P1: 15 | Q1: 16 | R1: 17
J2: 直接補助 | M2: 間接補助
A3: 事業名 | G3: 様式 | H3: 診療収入額 | I3: 補助区分 | J3: 1.都道府県が行う事業（直接補助） | K3: 2.沖縄県が行う事業（直接補助） | L3: 3.その他（1.2.以外への直接補助） | M3: 4.都道府県が公的5団体に補助する事業（5を除く） | N3: 5.沖縄県が公的5団体に補助するへき地診療所運営事業 | O3: 6.都道府県が補助する事業(4,5以外) | P3: 7.沖縄県が補助するへき地診療所運営事業(5以外)
A4: ① | B4: へき地保健医療対策事業等 | C4: ア | E4: へき地医療支援機構運営事業 | F4: （別紙２） | G4: （別紙２） | I4: 直接 | J4: 0.5 | K4: 0.5 | S4: 直接
C5: イ | E5: へき地医療拠点病院運営事業 | F5: （別紙３） | G5: （別紙３） | I5: 直接・間接 | J5: 0.5 | K5: 0.5 | M5: 0.5 | O5: 0.5 | S5: 間接
C6: ウ | E6: へき地診療所運営事業 | F6: （別紙４） | G6: （別紙４） | H6: 診療収入額入力 | I6: 直接・間接 | J6: 0.66666667 | K6: 0.75 | M6: 0.66666667 | N6: 0.75 | O6: 0.33333333 | P6: 0.75 | S6: 直接・間接
C7: エ | E7: へき地巡回診療車（船）運営事業 | F7: （別紙５） | G7: （別紙５） | H7: 診療収入額入力 | I7: 直接・間接 | J7: 0.5 | K7: 0.5 | L7: 0.5 | M7: 0.5 | O7: 0.5
C8: オ | E8: 巡回診療航空機運営事業 | F8: （別紙６） | G8: （別紙６） | H8: 診療収入額入力 | I8: 直接・間接 | J8: 0.5 | K8: 0.5 | M8: 0.5 | O8: 0.5
C9: カ | E9: 離島歯科診療班派遣事業 | F9: （別紙７） | G9: （別紙７） | H9: 診療収入額入力 | I9: 直接 | J9: 0.5 | K9: 0.5
C10: キ | E10: へき地保健指導所運営事業 | F10: （別紙８） | G10: （別紙８） | I10: 直接・間接 | J10: 0.5 | K10: 0.5 | O10: 0.5
C11: ク | E11: へき地患者輸送車（艇）、メディカルジェット（へき地患者輸送航空機）運行支援事業 | F11: （別紙９） | G11: （別紙９） | H11: 患者負担額入力 | I11: 直接・間接 | J11: 0.5 | K11: 0.5 | M11: 0.5 | O11: 0.5
C12: ケ | E12: へき地診療所医師派遣強化事業 | F12: （別紙１０） | G12: （別紙１０） | H12: 診療収入額入力 | I12: 直接・間接 | J12: 0.5 | K12: 0.5 | M12: 0.5 | O12: 0.5
A13: ② | B13: 救急医療体制強化事業 | C13: ア | E13: メディカルコントロール体制強化事業 | F13: （別紙１１） | G13: （別紙１１） | I13: 直接 | J13: 0.5 | K13: 0.5
C14: イ | E14: 搬送困難事例受入医療機関支援事業 | F14: （別紙１２） | G14: （別紙１２） | I14: 直接・間接 | J14: 0.33333333 | K14: 0.33333333 | M14: 0.33333333 | O14: 0.33333333
C15: ウ | E15: Tele-ICU体制整備促進事業 | F15: （別紙１３） | G15: （別紙１３） | I15: 直接・間接 | J15: 0.5 | K15: 0.5 | M15: 0.5 | O15: 0.5
C16: エ | E16: 病院救急車活用モデル事業 | F16: （別紙１４） | G16: （別紙１４） | I16: 直接・間接 | J16: 0.5 | K16: 0.5 | M16: 0.5 | O16: 0.5
A17: ③ | B17: 災害医療対策事業等 | C17: ア | E17: 医療施設耐震化促進事業 | F17: （別紙１５） | G17: （別紙１５） | I17: 間接 | O17: -
C18: イ | E18: 防災訓練等参加支援事業 | F18: （別紙１６） | G18: （別紙１６） | I18: 直接・間接 | J18: 1 | K18: 1 | M18: 1 | O18: 1
C19: ウ | E19: ＤＭＡＴ活動支援事業 | F19: （別紙１７） | G19: （別紙１７） | I19: 直接・間接 | J19: 0.5 | K19: 0.5 | M19: 0.5 | O19: 0.5
C20: エ | E20: ＤＭＡＴ訓練事業 | F20: （別紙１８） | G20: （別紙１８） | I20: 直接 | J20: 1 | K20: 1
C21: オ | E21: ＤＰＡＴ体制整備事業 | F21: （別紙１９） | G21: （別紙１９） | I21: 直接 | J21: 0.5 | K21: 0.5 | L21: 0.5
A22: ④ | B22: 産科医療確保事業 | C22: ア | E22: 産科医療機関確保事業 | F22: （別紙２０） | G22: （別紙２０） | I22: 直接・間接 | J22: 0.5 | K22: 0.5 | M22: 0.5 | O22: 0.5
C23: イ | E23: 産科医療を担う産科医等の確保事業 | F23: （別紙２１） | G23: （別紙２１） | I23: 直接・間接 | J23: 0.5 | K23: 0.5 | M23: 0.5 | O23: 0.5
A24: ⑤ | B24: ICT[を活用した産科医師少数地域に対する妊産婦モニタリング事業 | E24: ICTを活用した産科医師少数地域に対する妊産婦モニタリング事業 | G24: （別紙２２） | I24: 直接・間接 | J24: 0.5 | K24: 0.5 | M24: 0.5 | O24: 0.5
A25: ⑥ | B25: 医師が不足する地域における若手医師等キャリア形成支援事業 | E25: 医師が不足する地域における若手医師等のキャリア形成支援事業 | F25: （別紙３４） | G25: （別紙２３） | I25: 直接・間接 | J25: 0.5 | K25: 0.5 | M25: 0.5 | O25: 0.5
A26: ⑦ | B26: ８０２０運動・口腔保健推進事業 | C26: ア | E26: ８０２０運動推進特別事業 | F26: （別紙２４） | G26: （別紙２４） | I26: 直接 | J26: 1 | K26: 1
C27: イ | D27: ア | E27: 口腔保健支援センター設置推進事業 | F27: （別紙２５） | G27: （別紙２５） | I27: 直接 | J27: 0.5 | K27: 0.5 | L27: 0.5
D28: イ | E28: 歯科疾患予防・食育推進等口腔機能維持向上事業 | F28: （別紙２６） | G28: （別紙２６） | I28: 直接 | J28: 0.5 | K28: 0.5 | L28: 0.5
D29: ウ | E29: 歯科保健医療サービス提供困難者への歯科保健医療推進事業 | F29: （別紙２７） | G29: （別紙２７） | I29: 直接 | J29: 0.5 | K29: 0.5 | L29: 0.5
D30: エ | E30: 歯科保健医療サービス提供困難者への歯科医療技術者養成事業 | F30: （別紙２８） | G30: （別紙２８） | I30: 直接 | J30: 0.5 | K30: 0.5 | L30: 0.5
D31: オ | E31: 歯科口腔保健推進体制強化事業 | G31: （別紙２９） | I31: 直接 | J31: 0.5 | K31: 0.5 | L31: 0.5
D32: カ | E32: 歯科口腔保健調査研究事業 | F32: （別紙２９） | G32: （別紙３０） | I32: 直接 | J32: 0.5 | K32: 0.5 | L32: 0.5
D33: キ | E33: 多職種連携等調査研究事業 | F33: （別紙３０） | G33: （別紙３１） | I33: 直接 | J33: 0.5 | K33: 0.5 | L33: 0.5
A34: ⑧ | B34: 歯科医療機関による歯科口腔機能管理等研修事業 | E34: 歯科医療機関による歯科口腔機能管理等研修事業 | F34: （別紙３３） | G34: （別紙３２） | I34: 直接 | J34: 0.5 | K34: 0.5
A35: ⑨ | B35: 専門医認定支援事業 | C35: ア | E35: 医師不足地域の研修医療機関に対する指導医の派遣等 | F35: （別紙３１） | G35: （別紙３３） | I35: 直接・間接 | J35: 0.5 | K35: 0.5 | M35: 0.5 | O35: 0.5
C36: イ | E36: 新専門医制度の仕組みに係る地域医療対策協議会事業 | F36: （別紙３２） | G36: （別紙３４） | I36: 直接 | J36: 0.5 | K36: 0.5
A37: ⑩ | B37: 外国人患者に対する医療提供体制整備等推進等事業 | E37: 地域における外国人患者受入れ体制整備等を協議する場の設置・運営事業 | F37: （別紙３５） | G37: （別紙３５） | I37: 直接 | J37: 0.5 | K37: 0.5
A38: ⑪ | E38: 医療機関における外国人対応に資するワンストップ窓口設置・運営事業 | F38: （別紙３６） | G38: （別紙３６） | I38: 直接 | J38: 0.5 | K38: 0.5
A39: ⑫ | B39: 認定制度を活用した医師少数区域等における勤務の推進事業 | E39: 認定制度を活用した医師少数区域等における勤務の推進事業 | G39: （別紙３７） | I39: 直接・間接 | J39: 0.5 | K39: 0.5 | M39: 0.5 | O39: 0.5
A40: ⑬ | B40: 異状死死因究明支援事業 | E40: 異状死死因究明支援事業 | F40: （別紙２３） | G40: （別紙３８） | I40: 直接 | J40: 0.5 | K40: 0.5
...

Sheet 第1号様式（交付申請）
A2: 別記
A4: 第１号様式（第５条関係）
G6: 第 号
G7: 令和 年 月 日
A9: 高知県知事 様
E12: 住所
E13: 氏名
E14: 生年月日
A17: 令和７年度高知県医師少数区域等勤務医支援事業費補助金交付申請書
A19: 高知県補助金等交付規則第３条第１項及び高知県医師少数区域等勤務医支援事業費補助金交付要綱第５条の規定により、補助金を交付されるよう関係書類を添えて申請します。
A21: １ 補助申請額 | B21: 金 | C21: =別紙１!G9 -> 0 | E21: 円
A23: ２ 経費所要額調（別紙１のとおり）
A25: ３ 事業計画書 （別紙２のとおり）
A27: ４ 添付書類
A28: (１) 歳入歳出予算書（見込み）の抄本（別紙３のとおり）
A29: (２) 県税の滞納がない旨を証する証明書 又は 県税完納情報の提供に係る同意書（※１）及び本人確認書類の写し（※２） ※１：税務課が別に定める「県税完納情報提供事務処理要綱」における第４号様式。 ※２：補助事業者が個人の場合は、マイナンバーカード、運転免許証、健康保険証の写し等。補助 事業者が法人の場合は、法人代表者のマイナンバーカード、運転免許証、健康保険証の写し 等。 （注）マイナンバーカードは表面のみコピー（裏面はマイナンバーの表示があるため、提出 は不可とする。）、健康保険証の保険者番号及び被保険者等記号・番号は復元できな い程度にマスキング処理を施す等してください。
A30: (３) (１)及び(２)に掲げるもののほか、参考となる書類
A32: 補助金振込先 | B32: 銀行名 | F32: 支店
B33: 口座名義人（カナ）
B34: 種別（当座・普通）
B35: 口座番号

Sheet 別紙１
A1: 別紙１
A2: 経 費 所 要 額 調
G4: 補助事業者名 | H4: ='第1号様式（交付申請）'!F13 -> 0
A6: 総事業費 | B6: 寄付金その他 の収入額 | C6: 差引き額 （A)-(B) | D6: 対象経費の 支出予定額 | E6: 基準額 | F6: 選定額 | G6: 補助金所要額 | H6: 備考
A7: Ａ | B7: Ｂ | C7: Ｃ | D7: Ｄ | E7: Ｅ | F7: Ｆ | G7: Ｇ
A8: 円 | B8: 円 | C8: 円 | D8: 円 | E8: 円 | F8: 円 | G8: 円
A9: =D28 -> 0 | C9: =A9-B9 -> 0 | D9: =D24 -> 0 | E9: =E24 -> 0 | F9: =F24 -> 0 | G9: =IFERROR(ROUNDDOWN(F9,-3),"") -> 0
A11: １ 所要額明細
A12: 区分 | D12: 支出予定額 | E12: 基準額 | F12: 選定額 | G12: 算出内訳
D13: 円 | E13: 円 | F13: 円
A14: （研修受講経費）
A15: 旅費
A16: 雑役務費（研修受講料）
A17: 小 計 | D17: =SUM(D15:D16) -> 0 | E17: =I33 -> 0 | F17: =MIN(D17,E17) -> 0
A18: （専門書購入経費）
A19: 備品費（図書）※オンラインジャーナル含む
A20: 小 計 | D20: =SUM(D19:D19) -> 0 | E20: =I42 -> 0 | F20: =MIN(D20,E20) -> 0
A21: （他病院勤務経費）
A22: 旅費
A23: 小 計 | D23: =SUM(D22:D22) -> 0 | E23: =I44 -> 0 | F23: =MIN(D23,E23) -> 0
A24: 合 計 | D24: =D17+D20+D23 -> 0 | E24: =IFERROR(E17+E20+E23,"") -> 0 | F24: =+F17+F20+F23 -> 0
A25: その他
A27: 合 計 | D27: =SUM(D25:D26) -> 0
A28: 総事業費 | D28: =SUM(D24,D27) -> 0 | E28: =IFERROR(E24+E27,"") -> 0
A29: （注１）その他欄は補助対象以外の経費を計上してください。
A30: （注２）変更申請の場合は、変更前を上段に括弧書きで記入して下さい。
A32: ２ 基準額算出調書
A33: 研修受講経費 | I33: =IFERROR(I35+I37+I38,"") -> 0
E34: 勤務月数 | G34: 人数
A35: 研修受講料 | C35: 10000 | D35: × | F35: × | H35: ＝ | I35: =E35*G35 -> 0
E36: 勤務月数 | G36: 人数
A37: 旅費 | B37: 県内 | C37: 2000 | D37: × | F37: × | H37: ＝ | I37: =E37*G37 -> 0
B38: 県外 | C38: 12000 | D38: × | F38: × | H38: ＝ | I38: =E38*G38 -> 0
A40: 専門書購入経費
G41: 人数
E42: 54000 | F42: × | H42: ＝ | I42: =IFERROR(E42*G42," ") -> 0
A44: 他病院勤務経費 | I44: =IFERROR(I46+I47,"") -> 0
E45: 勤務月数 | G45: 人数
B46: 県内 | C46: 4000 | D46: × | F46: × | H46: ＝ | I46: =IFERROR(C46*E46*G46," ") -> 0
B47: 県外 | C47: 24000 | D47: × | F47: × | H47: ＝ | I47: =IFERROR(C47*E47*G47," ") -> 0

Sheet 別紙２
A2: 別紙２
A4: 事 業 計 画 書
A6: 医師少数区域経験認定医師の所属状況
A8: No. | B8: 認定番号 | C8: 認定医氏名 | D8: 申請年度における在職期間 | F8: 勤務月数 | G8: 勤務状況 | I8: 切り上げ
H9: =4*F9/4 -> 0 | I9: =ROUNDUP(H9,0) -> 0 | J9: 1
H10: =3*F10/4 -> 0 | I10: =ROUNDUP(H10,0) -> 0 | J10: 2
H11: =2*F11/4 -> 0 | I11: =ROUNDUP(H11,0) -> 0 | J11: 3
H12: =1*F12/4 -> 0 | I12: =ROUNDUP(H12,0) -> 0 | J12: 4
H13: =1*F13/4 -> 0 | I13: =ROUNDUP(H13,0) -> 0 | J13: 5
H14: =1*F14/4 -> 0 | I14: =ROUNDUP(H14,0) -> 0 | J14: 6
H15: =1*F15/4 -> 0 | I15: =ROUNDUP(H15,0) -> 0 | J15: 7
H16: =1*F16/4 -> 0 | I16: =ROUNDUP(H16,0) -> 0 | J16: 8
H17: =1*F17/4 -> 0 | I17: =ROUNDUP(H17,0) -> 0 | J17: 9
H18: =1*F18/4 -> 0 | I18: =ROUNDUP(H18,0) -> 0 | J18: 10
H19: =1*F19/4 -> 0 | I19: =ROUNDUP(H19,0) -> 0 | J19: 11
H20: =1*F20/4 -> 0 | I20: =ROUNDUP(H20,0) -> 0 | J20: 12
H21: =1*F21/4 -> 0 | I21: =ROUNDUP(H21,0) -> 0 | J21: 13
H22: =1*F22/4 -> 0 | I22: =ROUNDUP(H22,0) -> 0 | J22: 14
H23: =1*F23/4 -> 0 | I23: =ROUNDUP(H23,0) -> 0 | J23: 15
A24: 計 | F24: =+SUM(F9:F13) -> 0
A25: ※「勤務月数」は、在職期間のうち暦日で２分の１以上在職した月を1月として積算する。
A26: ※「勤務状況」は、週4日以上、週3日、週2日、週１日で記載。在職期間中に変動がある場合は、 平均値で記載してください。

Sheet 別紙３　歳入歳出予算書抄本
A1: 別紙３
A3: 令和７年度医師少数区域等勤務医支援事業に係る歳入歳出予算書抄本
A5: 収入の部 | D5: 支出の部
A7: 医業収益 | B7: =B19-B9 -> 0 | C7: 円 | D7: 研修受講経費 | E7: =SUM(E8:E9) -> 0 | F7: 円
D8: （旅費） | E8: =別紙１!D15 -> 0 | F8: 円
A9: 医業外収益 | B9: =B10 -> 0 | C9: 円 | D9: （研修受講料） | E9: =別紙１!D16 -> 0 | F9: 円
A10: （県補助金） | B10: =別紙１!G9 -> 0 | C10: 円
D11: 専門書購入経費 | E11: =別紙１!D20 -> 0 | F11: 円
D13: 他病院勤務経費 | E13: =別紙１!D23 -> 0 | F13: 円
D15: その他経費 | E15: =別紙１!D27 -> 0 | F15: 円
A19: 合計 | B19: =E19 -> 0 | C19: 円 | D19: 合計 | E19: =E7+E11+E13+E15 -> 0 | F19: 円
A21: 上記のとおり相違ありません。
C23: ='第1号様式（交付申請）'!G7 -> 令和 年 月 日
C24: 住所 | D24: ='第1号様式（交付申請）'!F12 -> 0
C25: 氏名 | D25: ='第1号様式（交付申請）'!F13 -> 0

Sheet 第２号様式（変更・中止・廃止）
A4: 第２号様式（第６条関係）
G6: 第 号
G7: 令和 年 月 日
A9: 高知県知事 様
E12: 住所 | F12: ='第1号様式（交付申請）'!F12 -> 0
E13: 氏名 | F13: ='第1号様式（交付申請）'!F13 -> 0
A17: 令和７年度高知県医師少数区域等勤務医支援事業変更（中止・廃止）承認申請書
A19: 令和 年 月 日付け高知県指令 第 号で補助金の交付の決定を受けました上の事業について、下記のとおり変更（中止・廃止）したいので、令和７年度高知県医師少数区域等勤務医支援事業費補助金交付要綱第６条第１号（第２号、第３号）の規定により、関係書類を添えて申請します。
A21: １ 変更（中止・廃止）内容及びその理由
A23: ２ 経費所要額調（別記第１号様式の別紙１のとおり）
A25: ３ 事業計画書（別記第１号様式の別紙２のとおり）
A27: ４ 添付書類
A28: (１) 歳入歳出予算書（見込み）の抄本
A30: (２) (１)に掲げるもののほか、参考となる書類

Sheet 第３号様式（仕入控除）
A4: 第３号様式（第６条関係）
G6: 第 号
G7: 令和 年 月 日
A9: 高知県知事 様
E12: 住所 | F12: ='第1号様式（交付申請）'!F12 -> 0
E13: 氏名 | F13: ='第1号様式（交付申請）'!F13 -> 0
A17: 令和７年度消費税及び地方消費税に係る仕入控除税額報告書
A19: 令和 年 月 日付け高知県指令 第 号で補助金の(変更)交付の決定がありました令和７年度高知県医師少数区域等勤務医支援事業費補助金について、令和７年度高知県医師少数区域等勤務医支援事業費補助金交付要綱第６条第10号の規定により、下記のとおり報告します。
A20: 記
A21: １ 令和７年度高知県医師少数区域等勤務医支援事業費補助金交付要綱第６条第10号に基づく額の確 定額又は事業実績報告額
C23: 金 | F23: 円
A25: ２ 消費税及び地方消費税の申告により確定した消費税及び地方消費税仕入控除税額（要補助金返還相 当額）
C27: 金 | F27: 円
A30: （注）：参考となる書類（金額の積算の内訳等）を添えてください。

Sheet 第４号様式（概算払）
A4: 第４号様式（第８条関係）
G6: 第 号
G7: 令和 年 月 日
A9: 高知県知事 様
E12: 住所 | F12: ='第1号様式（交付申請）'!F12 -> 0
E13: 氏名 | F13: ='第1号様式（交付申請）'!F13 -> 0
A17: 令和７年度高知県医師少数区域等勤務医支援事業費補助金概算払請求書
A19: 令和 年 月 日付け高知県指令 第 号で補助金の(変更)交付の決定がありました令和７年度高知県医師少数区域等勤務医支援事業費補助金について、下記により金 円を概算払によって交付されるよう、令和７年度高知県医師少数区域等勤務医支援事業費補助金交付要綱第８条第２項の規定により、請求します。
A21: 記
B22: 補助金交付決定額 | F22: 円
B24: 既交付額 | F24: 円
B26: 今回請求額 | F26: 円
B28: 残額 | F28: 円
B30: 振込先

Sheet 第５号様式（実績報告）
A4: 第５号様式（第９条関係）
G6: 第 号
G7: 令和 年 月 日
A9: 高知県知事 様
E12: 住所 | F12: ='第1号様式（交付申請）'!F12 -> 0
E13: 氏名 | F13: ='第1号様式（交付申請）'!F13 -> 0
A17: 令和７年度高知県医師少数区域等勤務医支援事業費補助金実績報告書
A19: 令和 年 月 日付け高知県指令 第 号で補助金の(変更)交付の決定の通知がありました事業が完了しましたので、令和７年度高知県医師少数区域等勤務医支援事業費補助金交付要綱第９条の規定により、関係書類を添えて報告します。
A20: 記
A21: １ 経費所要額精算書（別紙１のとおり）
A23: ２ 事業実績報告書（別紙２のとおり）
A25: ３ 添付書類
A26: (１) 当該事業に係る歳入歳出決算書（見込み）の抄本（別紙３のとおり）
A28: (２) (１)のほか、参考となる書類

Sheet 別紙１ (2)
A1: 別紙１
A2: 所 要 額 精 算 書
G4: 補助事業者名 | H4: ='第1号様式（交付申請）'!F13 -> 0
A6: 総事業費 | B6: 寄付金その他 の収入額 | C6: 差引き額 （A)-(B) | D6: 対象経費の 支出済額 | E6: 基準額 | F6: 選定額 | G6: 補助金所要額 | H6: 備考
A7: Ａ | B7: Ｂ | C7: Ｃ | D7: Ｄ | E7: Ｅ | F7: Ｆ | G7: Ｇ
A8: 円 | B8: 円 | C8: 円 | D8: 円 | E8: 円 | F8: 円 | G8: 円
A9: =D28 -> 0 | B9: 0 | C9: =A9-B9 -> 0 | D9: =D24 -> 0 | E9: =E24 -> 0 | F9: =F24 -> 0 | G9: =IFERROR(ROUNDDOWN(F9,-3),"") -> 0
A11: １ 所要額明細
A12: 区分 | D12: 支出済額 | E12: 基準額 | F12: 選定額 | G12: 算出内訳
D13: 円 | E13: 円 | F13: 円
A14: （研修受講経費）
A15: 旅費
A16: 雑役務費（研修受講料）
A17: 小 計 | D17: =SUM(D15:D16) -> 0 | E17: =I32 -> 0 | F17: =MIN(D17,E17) -> 0
A18: （専門書購入経費）
A19: 備品費（図書）※オンラインジャーナル含む
A20: 小 計 | D20: =SUM(D19:D19) -> 0 | E20: =I41 -> 0 | F20: =MIN(D20,E20) -> 0
A21: （他病院勤務経費）
A22: 旅費
A23: 小 計 | D23: =SUM(D22:D22) -> 0 | E23: =I43 -> 0 | F23: =MIN(D23,E23) -> 0
A24: 合 計 | D24: =D17+D20+D23 -> 0 | E24: =IFERROR(E17+E20+E23,"") -> 0 | F24: =+F17+F20+F23 -> 0
A25: その他
A27: 合計 | D27: =SUM(D25:D26) -> 0
A28: 総事業費 | D28: =SUM(D24,D27) -> 0 | E28: =IFERROR(E24+E27,"") -> 0
A29: （注）その他欄は補助対象以外の経費を計上してください。
A31: ２ 基準額算出調書
A32: 研修受講経費 | I32: =IFERROR(I34+I36+I37,"") -> 0
E33: 勤務月数 | G33: 人数
A34: 研修受講料 | C34: 10000 | D34: × | F34: × | H34: ＝ | I34: =IFERROR(C34*E34*G34," ") -> 0
E35: 勤務月数 | G35: 人数
A36: 旅費 | B36: 県内 | C36: 2000 | D36: × | F36: × | H36: ＝ | I36: =IFERROR(C36*E36*G36," ") -> 0
B37: 県外 | C37: 12000 | D37: × | F37: × | H37: ＝ | I37: =IFERROR(C37*E37*G37," ") -> 0
A39: 専門書購入経費
G40: 人数
E41: 54000 | F41: × | H41: ＝ | I41: =IFERROR(E41*G41," ") -> 0
A43: 他病院勤務経費 | I43: =IFERROR(I45+I46,"") -> 0
E44: 勤務月数 | G44: 人数
B45: 県内 | C45: 4000 | D45: × | F45: × | H45: ＝ | I45: =IFERROR(C45*E45*G45," ") -> 0
B46: 県外 | C46: 24000 | D46: × | F46: × | H46: ＝ | I46: =IFERROR(C46*E46*G46," ") -> 0

Sheet 別紙２ (2)
A2: 別紙２
A4: 事 業 実 績 報 告 書
A6: 医師少数区域経験認定医師の所属状況
A8: No. | B8: 認定番号 | C8: 認定医氏名 | D8: 申請年度における在職期間 | F8: 勤務月数 | G8: 勤務状況 | I8: 切り上げ
H9: =4*F9/4 -> 0 | I9: =ROUNDUP(H9,0) -> 0 | J9: 1
H10: =3*F10/4 -> 0 | I10: =ROUNDUP(H10,0) -> 0 | J10: 2
H11: =2*F11/4 -> 0 | I11: =ROUNDUP(H11,0) -> 0 | J11: 3
H12: =1*F12/4 -> 0 | I12: =ROUNDUP(H12,0) -> 0 | J12: 4
H13: =1*F13/4 -> 0 | I13: =ROUNDUP(H13,0) -> 0 | J13: 5
H14: =1*F14/4 -> 0 | I14: =ROUNDUP(H14,0) -> 0 | J14: 6
H15: =1*F15/4 -> 0 | I15: =ROUNDUP(H15,0) -> 0 | J15: 7
H16: =1*F16/4 -> 0 | I16: =ROUNDUP(H16,0) -> 0 | J16: 8
H17: =1*F17/4 -> 0 | I17: =ROUNDUP(H17,0) -> 0 | J17: 9
H18: =1*F18/4 -> 0 | I18: =ROUNDUP(H18,0) -> 0 | J18: 10
H19: =1*F19/4 -> 0 | I19: =ROUNDUP(H19,0) -> 0 | J19: 11
H20: =1*F20/4 -> 0 | I20: =ROUNDUP(H20,0) -> 0 | J20: 12
H21: =1*F21/4 -> 0 | I21: =ROUNDUP(H21,0) -> 0 | J21: 13
H22: =1*F22/4 -> 0 | I22: =ROUNDUP(H22,0) -> 0 | J22: 14
H23: =1*F23/4 -> 0 | I23: =ROUNDUP(H23,0) -> 0 | J23: 15
A24: 計 | F24: =+SUM(F9:F13) -> 0
A25: ※「勤務月数」は、在職期間のうち暦日で２分の１以上在職した月を1月として積算する。
A26: ※「勤務状況」は、週4日以上、週3日、週2日、週１日で記載。在職期間中に変動がある場合は、 平均値で記載すること。

Sheet 別紙３　歳入歳出決算書抄本
A1: 別紙３
A3: 令和７年度医師少数区域等勤務医支援事業に係る歳入歳出決算書抄本
A5: 収入の部 | D5: 支出の部
A7: 医業収益 | B7: =B19-B9 -> 0 | C7: 円 | D7: 研修受講経費 | E7: =SUM(E8:E9) -> 0 | F7: 円
D8: （旅費） | E8: ='別紙１ (2)'!D15 -> 0 | F8: 円
A9: 医業外収益 | B9: =B10 -> 0 | C9: 円 | D9: （研修受講料） | E9: ='別紙１ (2)'!D16 -> 0 | F9: 円
A10: （県補助金） | B10: ='別紙１ (2)'!G9 -> 0 | C10: 円
D11: 専門書購入経費 | E11: ='別紙１ (2)'!D19 -> 0 | F11: 円
D13: 他病院勤務経費 | E13: ='別紙１ (2)'!D22 -> 0 | F13: 円
D15: その他経費 | E15: ='別紙１ (2)'!D27 -> 0 | F15: 円
A19: 合計 | B19: =E19 -> 0 | C19: 円 | D19: 合計 | E19: =E7+E11+E13+E15 -> 0 | F19: 円
A21: 上記のとおり相違ありません。
C23: ='第５号様式（実績報告）'!G7 -> 令和 年 月 日
C24: 住所 | D24: ='第1号様式（交付申請）'!F12 -> 0
C25: 氏名 | D25: ='第1号様式（交付申請）'!F13 -> 0
